Workbook

Sheet 5 класс
A3: Протокол школьного этапа этапа всероссийской олимпиады школьников по английскому языку в 2026-2027 уч.г., 5 класс
A5: Количество участников: 14
A6: Дата проведения: 22.09.2026
A7: Место проведения: МБОУ "СОШ №41" г. Чебоксары
A8: Председатель жюри: Павлова И.В., учитель английского языка
A9: Члены жюри: Алексеева И.А., учитель английского языка
A10: Николаева К.Н., учитель английского языка
A11: Петрова Н.М., учитель английского языка
A12: Афанасьева А.В., учитель английского языка
A15: № | B15: Шифр | C15: Ф.И.О. участника (полностью) | D15: Город | E15: Наименование ОО (сокращенное наименование по Уставу) | F15: Класс, в котором обучается | G15: Класс, за который выступает | H15: Ф.И.О. наставника (полностью) | I15: Задание 1 | J15: Задание 2 | K15: Задание 3 | L15: Задание 4 | M15: ИТОГО БАЛЛОВ | N15: МАКС. БАЛЛ | O15: Эффективность участия (%) | P15: Результат (победитель/призер/ участник)
A16: 1 | B16: АЯ-5-1 | C16: Куланова Елизавета Максимовна | D16: г. Чебоксары | E16: МБОУ "СОШ № 41" г. Чебоксары | F16: 5Б | G16: 5 | H16: Алексеева Ирина Владимировна | I16: 4 | J16: 13 | K16: 12 | L16: 4 | M16: 33 | N16: 50 | O16: 66 | P16: призер
A17: 2 | B17: АЯ-5-2 | C17: Никифорова Дарья Александровна | D17: г. Чебоксары | E17: МБОУ "СОШ № 41" г. Чебоксары | F17: 5Б | G17: 5 | H17: Алексеева Ирина Владимировна | I17: 0 | J17: 13 | K17: 11 | L17: 5 | M17: =SUM(I17:L17) -> 29 | N17: 50 | O17: 58 | P17: участник
A18: 3 | B18: АЯ-5-3 | C18: Шоркина Полина Андреевна | D18: г. Чебоксары | E18: МБОУ "СОШ № 41" г. Чебоксары | F18: 5Б | G18: 5 | H18: Алексеева Ирина Владимировна | I18: 0 | J18: 7 | K18: 15 | L18: 5 | M18: =SUM(I18:L18) -> 27 | N18: 50 | O18: 54 | P18: участник
A19: 4 | B19: АЯ-5-4 | C19: Зайцев Макар Алексеевич | D19: г. Чебоксары | E19: МБОУ "СОШ № 41" г. Чебоксары | F19: 5Г | G19: 5 | H19: Портнова Валерия Васильевна | I19: 0 | J19: 5 | K19: 9 | L19: 0 | M19: =SUM(I19:L19) -> 14 | N19: 50 | O19: 28 | P19: участник | Q19: у
A20: 5 | B20: АЯ-5-5 | C20: Кофтун Максим Евгеньевич | D20: г. Чебоксары | E20: МБОУ "СОШ № 41" г. Чебоксары | F20: 5Г | G20: 5 | H20: Портнова Валерия Васильевна | I20: =SUM(I16:I19) -> 4 | J20: 14 | K20: 13 | L20: 4 | M20: 35 | N20: 50 | O20: 70 | P20: призер
A21: 6 | B21: АЯ-5-6 | C21: Иванова Александра Сергеевна | D21: г. Чебоксары | E21: МБОУ "СОШ № 41" г. Чебоксары | F21: 5В | G21: 5 | H21: Петрова Наталья Михайловна | I21: 2 | J21: 14 | K21: 11 | L21: 0 | M21: =SUM(M20) -> 35 | N21: 50 | O21: 70 | P21: призер
A22: 7 | B22: АЯ-5-7 | C22: Петрова Эмилия Романовна | D22: г. Чебоксары | E22: МБОУ "СОШ № 41" г. Чебоксары | F22: 5Б | G22: 5 | H22: Петрова Наталья Михайловна | I22: 0 | J22: 10 | K22: 14 | L22: 0 | M22: =SUM(I22:L22) -> 24 | N22: 50 | O22: 48 | P22: участник
A23: 8 | B23: АЯ-5-8 | C23: Карасева Мария Андрияновна | D23: г. Чебоксары | E23: МБОУ "СОШ № 41" г. Чебоксары | F23: 5Б | G23: 5 | H23: Петрова Наталья Михайловна | I23: 0 | J23: 8 | K23: 8 | L23: 4 | M23: =SUM(I23:L23) -> 20 | N23: 50 | O23: 40 | P23: участник
A24: 9 | B24: АЯ-5-9 | C24: Петрова Милана Максимовна | D24: г. Чебоксары | E24: МБОУ "СОШ № 41" г. Чебоксары | F24: 5Б | G24: 5 | H24: Алексеева Ирина Владимировна | I24: 0 | J24: 8 | K24: 3 | L24: 0 | M24: =SUM(I24:L24) -> 11 | N24: 50 | O24: 22 | P24: участник
A25: 10 | B25: АЯ-5-10 | C25: Антипов Савелий Алексеевич | D25: г. Чебоксары | E25: МБОУ "СОШ № 41" г. Чебоксары | F25: 5Б | G25: 5 | H25: Петрова Наталья Михайловна | I25: 0 | J25: 2 | K25: 3 | L25: 0 | M25: =SUM(I25:L25) -> 5 | N25: 50 | O25: 10 | P25: участник
A26: 11 | B26: АЯ-5-11 | C26: Ефремов Максим Сергеевич | D26: г. Чебоксары | E26: МБОУ "СОШ № 41" г. Чебоксары | F26: 5Б | G26: 5 | H26: Петрова Наталья Михайловна | I26: 1 | J26: 7 | K26: 6 | L26: 0 | M26: =SUM(I26:L26) -> 14 | N26: 50 | O26: 28 | P26: участник
A27: 12 | B27: АЯ-5-12 | C27: Карасев Роман Андриянович | D27: г. Чебоксары | E27: МБОУ "СОШ № 41" г. Чебоксары | F27: 5Б | G27: 5 | H27: Петрова Наталья Михайловна | I27: 0 | J27: 5 | K27: 13 | L27: 0 | M27: =SUM(I27:L27) -> 18 | N27: 50 | O27: 36 | P27: участник
A28: 13 | B28: АЯ-5-13 | C28: Васильев Лука Романович | D28: г. Чебоксары | E28: МБОУ "СОШ № 41" г. Чебоксары | F28: 5А | G28: 5 | H28: Афанасьева Анна Владимировна | I28: 1 | J28: 12 | K28: 13 | L28: 4 | M28: =SUM(I28:L28) -> 30 | N28: 50 | O28: 60 | P28: призер
A29: 14 | B29: АЯ-5-14 | C29: Николаева Анастасия Валерьевна | D29: г. Чебоксары | E29: МБОУ "СОШ № 41" г. Чебоксары | F29: 5Б | G29: 5 | H29: Петрова Наталья Михайловна | I29: 1 | J29: 14 | K29: 11 | L29: 0 | M29: =SUM(I29:L29) -> 26 | N29: 50 | O29: 52 | P29: участник
B33: Председатель жюри: | H33: Павлова И.В.
B34: Члены жюри: | H34: Алексеева И.А.,
H35: Николаева К.Н.
H36: Петрва Н.М.
H37: Афанасьева А.В.

Sheet 6 класс
A3: Протокол школьного этапа этапа всероссийской олимпиады школьников по английскому языку в 2026-2027 уч.г., 6 класс
A5: Количество участников: 8
A6: Дата проведения: 22.09.2026
A7: Место проведения: МБОУ "СОШ №41" г. Чебоксары
A8: Председатель жюри: Павлова И.В., учитель английского языка
A9: ='5 класс'!A9 -> Члены жюри: Алексеева И.А., учитель английского языка
A10: ='5 класс'!A10 -> Николаева К.Н., учитель английского языка
A11: ='5 класс'!A11 -> Петрова Н.М., учитель английского языка
A12: ='5 класс'!A12 -> Афанасьева А.В., учитель английского языка
A15: № | B15: Шифр | C15: Ф.И.О. участника (полностью) | D15: Город | E15: Наименование ОО (сокращенное наименование по Уставу) | F15: Класс, в котором обучается | G15: Класс, за который выступает | H15: Ф.И.О. наставника (полностью) | I15: Задание 1 | J15: Задание 2 | K15: Задание 3 | L15: Задание 4 | M15: ИТОГО БАЛЛОВ | N15: МАКС. БАЛЛ | O15: Эффективность участия (%) | P15: Результат (победитель/призер/ участник)
A16: 1 | B16: АЯ-6-1 | C16: Ванюков Демьян Николаевич | D16: г. Чебоксары | E16: МБОУ "СОШ № 41" г. Чебоксары | F16: 6Б | G16: 6 | H16: Павлова Ирина Валерьевна | I16: 0 | J16: 2 | K16: 7 | L16: 5 | M16: =SUM(I16:L16) -> 14 | N16: 50 | O16: 28 | P16: участник
A17: 2 | B17: АЯ-6-2 | C17: Андреев Николай Андреевич | D17: г. Чебоксары | E17: МБОУ "СОШ № 41" г. Чебоксары | F17: 6Г | G17: 6 | H17: Спирина Анна Олеговна | I17: 0 | J17: 14 | K17: 9 | L17: 5 | M17: =SUM(I17:L17) -> 28 | N17: 50 | O17: 56 | P17: участник
A18: 3 | B18: АЯ-6-3 | C18: Лаптырев Егор Алексеевич | D18: г. Чебоксары | E18: МБОУ "СОШ № 41" г. Чебоксары | F18: 6Е | G18: 6 | H18: Николаева Катерина Николаевна | I18: 0 | J18: 14 | K18: 9 | L18: 6 | M18: =SUM(I18:L18) -> 29 | N18: 50 | O18: 58 | P18: участник
A19: 4 | B19: АЯ-6-4 | C19: Шалтыкова Полина Александровна | D19: г. Чебоксары | E19: МБОУ "СОШ № 41" г. Чебоксары | F19: 6А | G19: 6 | H19: Николаева Катерина Николаевна | I19: 0 | J19: 14 | K19: 11 | L19: 0 | M19: =SUM(I19:L19) -> 25 | N19: 50 | O19: 50 | P19: участник
A20: 5 | B20: АЯ-6-5 | C20: Петухова Анна Ильинична | D20: г. Чебоксары | E20: МБОУ "СОШ № 41" г. Чебоксары | F20: 6А | G20: 6 | H20: Николаева Катерина Николаевна | I20: 3 | J20: 12 | K20: 10 | L20: 6 | M20: 31 | N20: 50 | O20: 62 | P20: призер
A21: 6 | B21: АЯ-6-6 | C21: Гурьев Ярослав Андреевич | D21: г. Чебоксары | E21: МБОУ "СОШ № 41" г. Чебоксары | F21: 6А | G21: 6 | H21: Спирина Анна Олеговна | I21: 1 | J21: 14 | K21: 13 | L21: 0 | M21: =SUM(I21:L21) -> 28 | N21: 50 | O21: 56 | P21: участник
A22: 7 | B22: АЯ-6-7 | C22: Степанова Эмилия | D22: г. Чебоксары | E22: МБОУ "СОШ № 41" г. Чебоксары | F22: 6А | G22: 6 | H22: Николаева Катерина Николаевна | I22: 0 | J22: 5 | K22: 5 | L22: 7 | M22: =SUM(I22:L22) -> 17 | N22: 50 | O22: 34 | P22: участник
A23: 8 | B23: АЯ-6-8 | C23: Федорова Ульяна Игоревна | D23: г. Чебоксары | E23: МБОУ "СОШ № 41" г. Чебоксары | F23: 6Е | G23: 6 | H23: Николаева Катерина Николаевна | I23: 2 | J23: 14 | K23: 13 | L23: 9 | M23: =SUM(I23:L23) -> 38 | N23: 50 | O23: 76 | P23: призер
B27: Председатель жюри: | H27: Павлова И.В., учитель английского языка
B28: Члены жюри: | H28: ='5 класс'!H34 -> Алексеева И.А.,
H29: ='5 класс'!H35 -> Николаева К.Н.
H30: ='5 класс'!H36 -> Петрва Н.М.
H31: ='5 класс'!H37 -> Афанасьева А.В.

Sheet 7 класс
A3: Протокол школьного этапа этапа всероссийской олимпиады школьников по английскому языку в 2026-2027 уч.г., 7 класс
A5: Количество участников: 4
A6: Дата проведения: 22.09.2026
A7: Место проведения: Чебоксары
A8: Председатель жюри: Павлова И.В., учитель английского языка
A9: Члены жюри: Афанасьева А.В., учитель английского языка
A10: Спирина А.О., учитель английского языка
A11: Петрова Н.М., учитель английского языка
A12: Пряхина Е.Е, учитель английского языка
A15: № | B15: Шифр | C15: Ф.И.О. участника (полностью) | D15: Город | E15: Наименование ОО (сокращенное наименование по Уставу) | F15: Класс, в котором обучается | G15: Класс, за который выступает | H15: Ф.И.О. наставника (полностью) | I15: Задание 1 | J15: Задание 2 | K15: Задание 3 | L15: Задание 4 | M15: ИТОГО БАЛЛОВ | N15: МАКС. БАЛЛ | O15: Эффективность участия (%) | P15: Результат (победитель/призер/ участник)
A16: 1 | B16: АЯ-7-1 | C16: Яковлева Кира Сергеевна | D16: г. Чебоксары | E16: МБОУ "СОШ № 41" г. Чебоксары | F16: 7 | G16: 7 | H16: Спирина Анна Олеговна | I16: 5 | J16: 9 | K16: 23 | L16: 8 | M16: 45 | N16: 60 | O16: 75 | P16: участник
A17: 2 | B17: АЯ-7-3 | C17: Пряхин Илья Дмитриевич | D17: г. Чебоксары | E17: МБОУ "СОШ № 41" г. Чебоксары | F17: 7 | G17: 7 | H17: Павлова Ирина Валерьевна | I17: 0 | J17: 11 | K17: 4 | L17: 0 | M17: 15 | N17: 60 | O17: 25 | P17: участник
A18: 3 | B18: АЯ-7-4 | C18: Краснов Иван Михайлович | D18: г. Чебоксары | E18: МБОУ "СОШ № 41" г. Чебоксары | F18: 7 | G18: 7 | H18: Павлова Ирина Валерьевна | I18: 6 | J18: 12 | K18: 25 | L18: 9 | M18: 52 | N18: 60 | O18: 86 | P18: победитель
A19: 4 | B19: АЯ-7-5 | C19: Иванов Кирилл Максимович | D19: г. Чебоксары | E19: МБОУ "СОШ № 41" г. Чебоксары | F19: 7 | G19: 7 | H19: Павлова Ирина Валерьевна | I19: 3 | J19: 9 | K19: 13 | L19: 0 | M19: 25 | N19: 60 | O19: 42 | P19: участник
B23: Председатель жюри: | H23: Павлова И.В.
B24: Члены жюри:
H25: Афанасьева А.В.
H26: Спирина А.О.
H27: Пряхина Е.Е.
H28: Петрова Н.М.

Sheet 8 класс
A3: Протокол школьного этапа этапа всероссийской олимпиады школьников по английскому языку в 2026-2027 уч.г., 8 класс
A5: Количество участников: 40
A6: Дата проведения: 22.12.2026
A7: Место проведения: МБОУ "СОШ №41" г. Чебоксары
A8: Председатель жюри: Павлова Ирина Валерьевна, учитель английского языка
A9: Члены жюри: Петрова Наталья Михайловна, учитель английского языка
A10: Пряхина Екатерина Елисеевна, учитель английского языка
A11: Афанасьева Анна владимировна, учитель английского языка
A15: № | B15: Шифр | C15: Ф.И.О. участника (полностью) | D15: Город | E15: Наименование ОО (сокращенное наименование по Уставу) | F15: Класс, в котором обучается | G15: Класс, за который выступает | H15: Ф.И.О. наставника (полностью) | I15: Задание 1 | J15: Задание 2 | K15: Задание 3 | L15: Задание 4 | M15: ИТОГО БАЛЛОВ | N15: МАКС. БАЛЛ | O15: Эффективность участия (%) | P15: Результат (победитель/призер/ участник)
A16: 1 | B16: АЯ-8-1 | C16: Милицкова Софья Андреевна | D16: г. Чебоксары | E16: МБОУ "СОШ № 41" г. Чебоксары | F16: 8 | G16: 8 | H16: Петрова Наталья Михайловна | I16: 0 | J16: 4 | K16: 6 | L16: 0 | M16: 10 | N16: 60 | O16: 17 | P16: участник
A17: 2 | B17: АЯ-8-2 | C17: Андреева Юлия Алексеевна | D17: г. Чебоксары | E17: МБОУ "СОШ № 41" г. Чебоксары | F17: 8 | G17: 8 | H17: Петрова Наталья Михайловна | I17: 1 | J17: 6 | K17: 8 | L17: 0 | M17: 15 | N17: 60 | O17: 25 | P17: участник
A18: 3 | B18: АЯ-8-3 | C18: Шайдюманова Сарпи Леонидовна | D18: г. Чебоксары | E18: МБОУ "СОШ № 41" г. Чебоксары | F18: 8 | G18: 8 | H18: Пряхина Екатерина Елисеевна | I18: 4 | J18: 11 | K18: 21 | L18: 0 | M18: 36 | N18: 60 | O18: 60 | P18: участник
A19: 4 | B19: АЯ-8-4 | C19: Чернова Кира Алексеевна | D19: г. Чебоксары | E19: МБОУ "СОШ № 41" г. Чебоксары | F19: 8 | G19: 8 | H19: Пряхина Екатерина Елисеевна | I19: 5 | J19: 10 | K19: 22 | L19: 0 | M19: 37 | N19: 60 | O19: 62 | P19: участник
A20: 5 | B20: АЯ-8-5 | C20: Пустотина Надежда Сергеевна | D20: г. Чебоксары | E20: МБОУ "СОШ № 41" г. Чебоксары | F20: 8 | G20: 8 | H20: Пряхина Екатерина Елисеевна | I20: 6 | J20: 8 | K20: 15 | L20: 0 | M20: 29 | N20: 60 | O20: 48 | P20: участник
A21: 6 | B21: АЯ-8-6 | C21: Осипова Диана Юрьевна | D21: г. Чебоксары | E21: МБОУ "СОШ № 41" г. Чебоксары | F21: 8 | G21: 8 | H21: Пряхина Екатерина Елисеевна | I21: 3 | J21: 9 | K21: 7 | L21: 0 | M21: 19 | N21: 60 | O21: 32 | P21: участник
A22: 7 | B22: АЯ-8-7 | C22: Константинова София Васильевна | D22: г. Чебоксары | E22: МБОУ "СОШ № 41" г. Чебоксары | F22: 8 | G22: 8 | H22: Петрова Наталья Михайловна | I22: 4 | J22: 10 | K22: 15 | L22: 9 | M22: 38 | N22: 60 | O22: 63 | P22: участник
A23: 8 | B23: АЯ-8-8 | C23: Солнцева Юлиана Павловна | D23: г. Чебоксары | E23: МБОУ "СОШ № 41" г. Чебоксары | F23: 8 | G23: 8 | H23: Пряхина Екатерина Елисеевна | I23: 2 | J23: 12 | K23: 14 | L23: 0 | M23: 28 | N23: 60 | O23: 47 | P23: участник
A24: 9 | B24: АЯ-8-9 | C24: Федоров Святослав Николаевич | D24: г. Чебоксары | E24: МБОУ "СОШ № 41" г. Чебоксары | F24: 8 | G24: 8 | H24: Пряхина Екатерина Елисеевна | I24: 1 | J24: 9 | K24: 22 | L24: 0 | M24: 32 | N24: 60 | O24: 53 | P24: участник
A25: 10 | B25: АЯ-8-10 | C25: Сурнаева Яна Дмитриевна | D25: г. Чебоксары | E25: МБОУ "СОШ № 41" г. Чебоксары | F25: 8 | G25: 8 | H25: Пряхина Екатерина Елисеевна | I25: 1 | J25: 9 | K25: 22 | L25: 0 | M25: 32 | N25: 60 | O25: 53 | P25: участник
A26: 11 | B26: АЯ-8-11 | C26: Ефимов Роман Леонидович | D26: г. Чебоксары | E26: МБОУ "СОШ № 41" г. Чебоксары | F26: 8 | G26: 8 | H26: Петрова Наталья Михайловна | I26: 1 | J26: 3 | K26: 6 | L26: 0 | M26: 10 | N26: 60 | O26: 17 | P26: участник
A27: 12 | B27: АЯ-8-12 | C27: Сютов Дмитрий Евгеньевич | D27: г. Чебоксары | E27: МБОУ "СОШ № 41" г. Чебоксары | F27: 8 | G27: 8 | H27: Пряхина Екатерина Елисеевна | I27: 2 | J27: 9 | K27: 21 | L27: 0 | M27: 32 | N27: 60 | O27: 53 | P27: участник
... A55: 40 | B55: АЯ-8-40 | C55: Киселева Мария Александровна | D55: г. Чебоксары | E55: МБОУ "СОШ № 41" г. Чебоксары | F55: 8 | G55: 8 | H55: Афанасьева Анна Владимировна | I55: 4 | J55: 11 | K55: 23 | L55: 8 | M55: 46 | N55: 60 | O55: 77 | P55: призер
B61: Председатель жюри: | E61: Павлова И.В.
B62: Члены жюри:
E63: Петрова Н.М.
E64: Пряхина Е.Е.
E65: Афанасьева А.А.

Sheet 9 класс
A3: Протокол школьного этапа этапа всероссийской олимпиады школьников по английскому языку в 2026-2027 уч.г., 9 класс
A5: Количество участников: 26
A6: Дата проведения: 22.09.2022
A7: Место проведения: г.Чебоксары, МБОУ "СОШ №41" с углубленным изучением отдельных предметов
A8: Председатель жюри: Павлова И.В., учитель английского языка
A9: Члены жюри: Петрова Н.М., учитель английского языка
A10: Николаева К.Н., учитель английского языка
A11: Пряхина Е.Е., учитель английского языка
A12: Афанасьева А.В.,учитель английского языка
A15: № | B15: Шифр | C15: Ф.И.О. участника (полностью) | D15: Город | E15: Наименование ОО (сокращенное наименование по Уставу) | F15: Класс, в котором обучается | G15: Класс, за который выступает | H15: Ф.И.О. наставника (полностью) | I15: Задание 1 | J15: Задание 2 | K15: Задание 3 | L15: Задание 4 | M15: ИТОГО БАЛЛОВ | N15: МАКС. БАЛЛ | O15: Эффективность участия (%) | P15: Результат (победитель/призер/ участник)
A16: 1 | B16: АЯ-9-1 | C16: Васильева Кира Юрьевна | D16: г. Чебоксары | E16: МБОУ "СОШ № 41" г. Чебоксары | F16: 9 | G16: 9 | H16: Николаева Катерина Николаевна | I16: 6 | J16: 8 | K16: 6 | L16: 8 | M16: 28 | N16: 60 | O16: 46 | P16: участник
A17: 2 | B17: АЯ-9-2 | C17: Андреев Константин Олегович | D17: г. Чебоксары | E17: МБОУ "СОШ № 41" г. Чебоксары | F17: 9 | G17: 9 | H17: Петрова Наталья Михайловна | I17: 3 | J17: 1 | K17: 17 | L17: 0 | M17: 21 | N17: 60 | O17: 35 | P17: участник
A18: 3 | B18: АЯ-9-3 | C18: Александрова Марта Альбертовна | D18: г. Чебоксары | E18: МБОУ "СОШ № 41" г. Чебоксары | F18: 9 | G18: 9 | H18: Спирина Анна Олеговна | I18: 4 | J18: 3 | K18: 13 | L18: 8 | M18: 28 | N18: 60 | O18: 46 | P18: участник
A19: 4 | B19: АЯ-9-4 | C19: Аюкин Денис Алексеевич | D19: г. Чебоксары | E19: МБОУ "СОШ № 41" г. Чебоксары | F19: 9 | G19: 9 | H19: Петрова Наталья Михайловна | I19: 3 | J19: 9 | K19: 20 | L19: 10 | M19: 42 | N19: 60 | O19: 70 | P19: призер
A20: 5 | B20: АЯ-9-5 | C20: Гавилов Данила Анатольевич | D20: г. Чебоксары | E20: МБОУ "СОШ № 41" г. Чебоксары | F20: 9 | G20: 9 | H20: Петрова Наталья Михайловна | I20: 4 | J20: 7 | K20: 20 | L20: 0 | M20: 31 | N20: 60 | O20: 51 | P20: участник
A21: 6 | B21: АЯ-9-6 | C21: Артемьев Егор Андреевич | D21: г. Чебоксары | E21: МБОУ "СОШ № 41" г. Чебоксары | F21: 9 | G21: 9 | H21: Петрова Наталья Михайловна | I21: 5 | J21: 4 | K21: 21 | L21: 10 | M21: 40 | N21: 60 | O21: 66 | P21: участник
A22: 7 | B22: АЯ-9-7 | C22: Осипов Никита Владимирович | D22: г. Чебоксары | E22: МБОУ "СОШ № 41" г. Чебоксары | F22: 9 | G22: 9 | H22: Петрова Наталья Михайловна | I22: 3 | J22: 7 | K22: 22 | L22: 5 | M22: 37 | N22: 60 | O22: 61 | P22: участник
A23: 8 | B23: АЯ-9-8 | C23: Ильин Анатолий Алексеевич | D23: г. Чебоксары | E23: МБОУ "СОШ № 41" г. Чебоксары | F23: 9 | G23: 9 | H23: Николаева Катерина Николаевна | I23: 5 | J23: 7 | K23: 24 | L23: 0 | M23: 36 | N23: 60 | O23: 60 | P23: участник
A24: 9 | B24: АЯ-9-9 | C24: Горбунов Дмитрий Олегович | D24: г. Чебоксары | E24: МБОУ "СОШ № 41" г. Чебоксары | F24: 9 | G24: 9 | H24: Николаева Катерина Николаевна | I24: 3 | J24: 8 | K24: 23 | L24: 10 | M24: 44 | N24: 60 | O24: 73 | P24: призер
A25: 10 | B25: АЯ-9-10 | C25: Сапожников Егор Евгеньевич | D25: г. Чебоксары | E25: МБОУ "СОШ № 41" г. Чебоксары | F25: 9 | G25: 9 | H25: Спирина Анна Олеговна | I25: 5 | J25: 9 | K25: 24 | L25: 0 | M25: 38 | N25: 60 | O25: 63 | P25: участник
A26: 11 | B26: АЯ-9-11 | C26: Иванова Дарья Михайловна | D26: г. Чебоксары | E26: МБОУ "СОШ № 41" г. Чебоксары | F26: 9 | G26: 9 | H26: Петрова Наталья Михайловна | I26: 7 | J26: 7 | K26: 23 | L26: 5 | M26: 42 | N26: 60 | O26: 70 | P26: призер
A27: 12 | B27: АЯ-9-12 | C27: Денисова Ирина Олеговна | D27: г. Чебоксары | E27: МБОУ "СОШ № 41" г. Чебоксары | F27: 9 | G27: 9 | H27: Петрова Наталья Михайловна | I27: 6 | J27: 10 | K27: 10 | L27: 0 | M27: 26 | N27: 60 | O27: 43 | P27: участник
... A39: 24 | B39: АЯ-9-24 | C39: Борисов Роман Андреевич | D39: г. Чебоксары | E39: МБОУ "СОШ № 41" г. Чебоксары | F39: 9 | G39: 9 | H39: Николаева Катерина Николаевна | I39: 4 | J39: 9 | K39: 24 | L39: 0 | M39: 37 | N39: 60 | O39: 61 | P39: участник
A40: 25 | B40: АЯ-9-25 | C40: Кудрявцева Вера Евгеньевна | D40: г. Чебоксары | E40: МБОУ "СОШ № 41" г. Чебоксары | F40: 9 | H40: Николаева Катерина Николаевна | I40: 6 | J40: 5 | K40: 16 | L40: 8 | M40: 35 | N40: 60 | O40: 58 | P40: участник
A41: 26 | B41: АЯ-9-26 | C41: Серенкова Анна Дмитриевна | D41: г. Чебоксары | E41: МБОУ "СОШ № 41" г. Чебоксары | F41: 9 | G41: 9 | H41: Николаева Катерина Николаевна | I41: 7 | J41: 9 | K41: 22 | L41: 10 | M41: 48 | N41: 60 | O41: 80 | P41: призер
A42: 27 | B42: АЯ-9-27 | C42: Алямова Полина Сергеевна | D42: г. Чебоксары | E42: МБОУ "СОШ № 41" г. Чебоксары | F42: 9 | G42: 9 | H42: Петрова Наталья Михайловна | I42: 7 | J42: 7 | K42: 24 | L42: 8 | M42: 46 | N42: 60 | O42: 76 | P42: призер
C45: Председатель жюри: | H45: Павлова И.В.
C47: члены жюри: | H47: Петрова Н.М
H48: Николаева К.Н
H49: Пряхина Е.Е.
H50: Афанасьева А.В.

Sheet 10 класс
A3: Протокол школьного этапа этапа всероссийской олимпиады школьников по английскому языку в 2026-2027 уч.г., 10 класс
A5: Количество участников: 16
A6: Дата проведения: 22.09.2026
A7: Место проведения: МБОУ "СОШ№41" с углубленным изучением отдельных предметов г.Чебоксары
A8: Председатель жюри: Павлова И.В., учитель английского языка
A9: Члены жюри: Петрова Н.М.,учитель английского языка
A10: Афанасьева А.В.,учитель английского языка
A11: Пряхина Е.Е.,учитель английского языка
A12: Николаева К.Н.,учитель английского языка
A15: № | B15: Шифр | C15: Ф.И.О. участника (полностью) | D15: Город | E15: Наименование ОО (сокращенное наименование по Уставу) | F15: Класс, в котором обучается | G15: Класс, за который выступает | H15: Ф.И.О. наставника (полностью) | I15: Задание 1 | J15: Задание 2 | K15: Задание 3 | L15: Задание 4 | M15: ИТОГО БАЛЛОВ | N15: МАКС. БАЛЛ | O15: Эффективность участия (%) | P15: Результат (победитель/призер/ участник)
A16: 1 | B16: Ая-10-3 | C16: Андреев Артём Андреевич | D16: г. Чебоксары | E16: МБОУ "СОШ № 41" г. Чебоксары | F16: 10 | G16: 10 | H16: Ксенофонтова Елена Николаевна | I16: 7 | J16: 2 | K16: 22 | L16: 0 | M16: 31 | N16: 60 | O16: 51.7 | P16: участник
A17: 2 | B17: Ая-10-10 | C17: Быкова Валерия Евгеньевна | D17: г. Чебоксары | E17: МБОУ "СОШ № 41" г. Чебоксары | F17: 10 | G17: 10 | H17: Ксенофонтова Елена Николаевна | I17: 10 | J17: 6 | K17: 14 | L17: 9 | M17: 39 | N17: 60 | O17: 65 | P17: участник
A18: 3 | B18: Ая-10-15 | C18: Горшкова София Михайловна | D18: г. Чебоксары | E18: МБОУ "СОШ № 41" г. Чебоксары | F18: 10 | G18: 10 | H18: Ксенофонтова Елена Николаевна | I18: 11 | J18: 5 | K18: 18 | L18: 15 | M18: 49 | N18: 60 | O18: 81.7 | P18: призер
A19: 4 | B19: Ая-10-7 | C19: Ефимова Анна Юрьевна | D19: г. Чебоксары | E19: МБОУ "СОШ № 41" г. Чебоксары | F19: 10 | G19: 10 | H19: Ксенофонтова Елена Николаевна | I19: 3 | J19: 6 | K19: 15 | L19: 0 | M19: 24 | N19: 60 | O19: 40 | P19: участник
A20: 5 | B20: Ая-10-14 | C20: Иванова Кристина Владимировна | D20: г. Чебоксары | E20: МБОУ "СОШ № 41" г. Чебоксары | F20: 10 | G20: 10 | H20: Ксенофонтова Елена Николаевна | I20: 9 | J20: 7 | K20: 13 | L20: 15 | M20: 47 | N20: 60 | O20: 78.3 | P20: призер
A21: 6 | B21: Ая-10-9 | C21: Калистратова Кира Александровна | D21: г. Чебоксары | E21: МБОУ "СОШ № 41" г. Чебоксары | F21: 10 | G21: 10 | H21: Ксенофонтова Елена Николаевна | I21: 9 | J21: 4 | K21: 15 | L21: 12 | M21: 40 | N21: 60 | O21: 66.7 | P21: участник
A22: 7 | B22: Ая-10-2 | C22: Карасева Любовь Георгиевна | D22: г. Чебоксары | E22: МБОУ "СОШ № 41" г. Чебоксары | F22: 10 | G22: 10 | H22: Ксенофонтова Елена Николаевна | I22: 7 | J22: 4 | K22: 23 | L22: 13 | M22: 48 | N22: 60 | O22: 80 | P22: призер
A23: 8 | B23: Ая-10-8 | C23: Козлова Виктория Артуровна | D23: г. Чебоксары | E23: МБОУ "СОШ № 41" г. Чебоксары | F23: 10 | G23: 10 | H23: Ксенофонтова Елена Николаевна | I23: 10 | J23: 5 | K23: 17 | L23: 14 | M23: 46 | N23: 60 | O23: 76.7 | P23: призер
A24: 9 | B24: Ая-10-6 | C24: Новицкая Дарья Михайловна | D24: г. Чебоксары | E24: МБОУ "СОШ № 41" г. Чебоксары | F24: 10 | G24: 10 | H24: Ксенофонтова Елена Николаевна | I24: 8 | J24: 4 | K24: 17 | L24: 13 | M24: 42 | N24: 60 | O24: 70 | P24: участник
A25: 10 | B25: Ая-10-12 | C25: Петров Роман Евгеньевич | D25: г. Чебоксары | E25: МБОУ "СОШ № 41" г. Чебоксары | F25: 10 | G25: 10 | H25: Ксенофонтова Елена Николаевна | I25: 7 | J25: 7 | K25: 12 | L25: 12 | M25: 38 | N25: 60 | O25: 63.3 | P25: участник
A26: 11 | B26: Ая-10-4 | C26: Пименова Дарья Михайловна | D26: г. Чебоксары | E26: МБОУ "СОШ № 41" г. Чебоксары | F26: 10 | G26: 10 | H26: Ксенофонтова Елена Николаевна | I26: 11 | J26: 8 | K26: 25 | L26: 13 | M26: 57 | N26: 60 | O26: 95 | P26: победитель
A27: 12 | B27: Ая-10-16 | C27: Сапожников Виктор михайлович | D27: г. Чебоксары | E27: МБОУ "СОШ № 41" г. Чебоксары | F27: 10 | G27: 10 | H27: Ксенофонтова Елена Николаевна | I27: 8 | J27: 0 | K27: 2 | L27: 0 | M27: 10 | N27: 60 | O27: 17 | P27: участник
A28: 13 | B28: Ая-10-5 | C28: Сорокин Сергей Евгеньевич | D28: г. Чебоксары | E28: МБОУ "СОШ № 41" г. Чебоксары | F28: 10 | G28: 10 | H28: Ксенофонтова Елена Николаевна | I28: 6 | J28: 3 | K28: 17 | L28: 13 | M28: 39 | N28: 60 | O28: 65 | P28: участник
A29: 14 | B29: Ая-10-13 | C29: Феофанов Данил Сергеевич | D29: г. Чебоксары | E29: МБОУ "СОШ № 41" г. Чебоксары | F29: 10 | G29: 10 | H29: Ксенофонтова Елена Николаевна | I29: 7 | J29: 5 | K29: 11 | L29: 0 | M29: 23 | N29: 60 | O29: 38.3 | P29: участник
A30: 15 | B30: Ая-10-1 | C30: Толстова Екатерина Дмитриевна | D30: г. Чебоксары | E30: МБОУ "СОШ № 41" г. Чебоксары | F30: 10 | G30: 10 | H30: Ксенофонтова Елена Николаевна | I30: 9 | J30: 5 | K30: 19 | L30: 0 | M30: 33 | N30: 60 | O30: 55 | P30: участник
A31: 16 | B31: Ая-10-11 | C31: Федотова Ксения Юрьевна | D31: г. Чебоксары | E31: МБОУ "СОШ № 41" г. Чебоксары | F31: 10 | G31: 10 | H31: Ксенофонтова Елена Николаевна | I31: 10 | J31: 4 | K31: 22 | L31: 0 | M31: 36 | N31: 60 | O31: 60 | P31: участник
B35: Председатель жюри: | H35: Павлова И.В.
B36: Члены жюри:
H37: Петрова Н.М.
H39: Афанасьева А.В.
H41: Пряхина Е.Е.
H43: Афанасьева А.В.

Sheet 11 класс
A3: Протокол школьного этапа этапа всероссийской олимпиады школьников по английскому языку в 2026-2027 уч.г., 11 класс
A5: Количество участников: 14
A6: Дата проведения: 22.09.2026
A7: Место проведения: МБОУ "СОШ №41"
A8: Председатель жюри: Павлова И.В.,учитель английского языка
A9: Члены жюри: Петрова Н.М.,учитель английского языка
A10: Пряхина Е.Е.,учитель английского языка
A11: Афанавьева А.В.,учитель английского языка
A12: Николаева К.Н.,учитель английского языка
A15: № | B15: Шифр | C15: Ф.И.О. участника (полностью) | D15: Город | E15: Наименование ОО (сокращенное наименование по Уставу) | F15: Класс, в котором обучается | G15: Класс, за который выступает | H15: Ф.И.О. наставника (полностью) | I15: Задание 1 | J15: Задание 2 | K15: Задание 3 | L15: Задание 4 | M15: ИТОГО БАЛЛОВ | N15: МАКС. БАЛЛ | O15: Эффективность участия (%) | P15: Результат (победитель/призер/ участник)
A16: 1 | B16: Ая-11-7 | C16: Андреева Яна Алексеевна | D16: г. Чебоксары | E16: МБОУ "СОШ № 41" г. Чебоксары | F16: 11 | G16: 11 | H16: Ксенофонтова Елена Николаевна | I16: 7 | J16: 7 | K16: 20 | L16: 12 | M16: 46 | N16: 60 | O16: 77 | P16: призер
A17: 2 | B17: Ая-11-12 | C17: Аркадьева Валерия Алексеевна | D17: г. Чебоксары | E17: МБОУ "СОШ № 41" г. Чебоксары | F17: 11 | G17: 11 | H17: Ксенофонтова Елена Николаевна | I17: 8 | J17: 5 | K17: 8 | L17: 11 | M17: 32 | N17: 60 | O17: 53 | P17: участник
A18: 3 | B18: Ая-11-4 | C18: Архипова Александра Васильевна | D18: г. Чебоксары | E18: МБОУ "СОШ № 41" г. Чебоксары | F18: 11 | G18: 11 | H18: Ксенофонтова Елена Николаевна | I18: 9 | J18: 5 | K18: 22 | L18: 12 | M18: 48 | N18: 60 | O18: 80 | P18: участник
A19: 4 | B19: Ая-11-8 | C19: Кротков Аким Дмитриевич | D19: г. Чебоксары | E19: МБОУ "СОШ № 41" г. Чебоксары | F19: 11 | G19: 11 | H19: Ксенофонтова Елена Николаевна | I19: 10 | J19: 7 | K19: 14 | L19: 13 | M19: 44 | N19: 60 | O19: 73 | P19: участник
A20: 5 | B20: Ая-11-6 | C20: Кудряшова Елизавета Дмитриевна | D20: г. Чебоксары | E20: МБОУ "СОШ № 41" г. Чебоксары | F20: 11 | G20: 11 | H20: Ксенофонтова Елена Николаевна | I20: 8 | J20: 5 | K20: 11 | L20: 12 | M20: 36 | N20: 60 | O20: 60 | P20: участник
A21: 6 | B21: Ая-11-3 | C21: Марунова Жанна Владимировна | D21: г. Чебоксары | E21: МБОУ "СОШ № 41" г. Чебоксары | F21: 11 | G21: 11 | H21: Ксенофонтова Елена Николаевна | I21: 11 | J21: 6 | K21: 13 | L21: 12 | M21: 42 | N21: 60 | O21: 80 | P21: призер
A22: 7 | B22: Ая-11-11 | C22: Михайлова Виктория Андреевна | D22: г. Чебоксары | E22: МБОУ "СОШ № 41" г. Чебоксары | F22: 11 | G22: 11 | H22: Ксенофонтова Елена Николаевна | I22: 8 | J22: 6 | K22: 10 | L22: 12 | M22: 36 | N22: 60 | O22: 60 | P22: участник
A23: 8 | B23: Ая-11-10 | C23: Осипов Константин Евгеньевич | D23: г. Чебоксары | E23: МБОУ "СОШ № 41" г. Чебоксары | F23: 11 | G23: 11 | H23: Ксенофонтова Елена Николаевна | I23: 7 | J23: 6 | K23: 11 | L23: 12 | M23: 36 | N23: 60 | O23: 60 | P23: участник
A24: 9 | B24: Ая-11-5 | C24: Пономарчук Игорь Геннадьвич | D24: г. Чебоксары | E24: МБОУ "СОШ № 41" г. Чебоксары | F24: 11 | G24: 11 | H24: Ксенофонтова Елена Николаевна | I24: 10 | J24: 8 | K24: 17 | L24: 11 | M24: 46 | N24: 60 | O24: 77 | P24: призер
A25: 10 | B25: Ая-11-2 | C25: Рахимов Назар Керемович | D25: г. Чебоксары | E25: МБОУ "СОШ № 41" г. Чебоксары | F25: 11 | G25: 11 | H25: Ксенофонтова Елена Николаевна | I25: 11 | J25: 8 | K25: 19 | L25: 12 | M25: 50 | N25: 60 | O25: 83 | P25: призер
A26: 11 | B26: Ая-11-12 | C26: Степанов Илья Алексеевич | D26: г. Чебоксары | E26: МБОУ "СОШ № 41" г. Чебоксары | F26: 11 | G26: 11 | H26: Ксенофонтова Елена Николаевна | I26: 11 | J26: 8 | K26: 18 | L26: 13 | M26: 50 | N26: 60 | O26: 83 | P26: призер
A27: 12 | B27: Ая-11-9 | C27: Финогенова Анастасия Дмитриевна | D27: г. Чебоксары | E27: МБОУ "СОШ № 41" г. Чебоксары | F27: 11 | G27: 11 | H27: Ксенофонтова Елена Николаевна | I27: 10 | J27: 6 | K27: 9 | L27: 12 | M27: 37 | N27: 60 | O27: 62 | P27: участник
... A29: 14 | B29: Ая-11-14 | C29: Шубина Лада Сергеевна | D29: г. Чебоксары | E29: МБОУ "СОШ № 41" г. Чебоксары | F29: 11 | G29: 11 | H29: Петрова Наталья Михайловна | I29: 8 | J29: 7 | K29: 19 | L29: 10 | M29: 44 | N29: 60 | O29: 74 | P29: участник
B34: Председатель жюри: | H34: Павлова И.В
B35: Члены жюри:
H36: Петрова Н.М.
H37: Афанасьева А.В.
H38: Николаева К.Н.
H39: Пряхина Е.Е.
