Workbook

Sheet 5 КЛАСС 
A3: Протокол школьного этапа этапа всероссийской олимпиады школьников по литературе в 2026-2027 уч.г., 5 класс
A5: Количество участников: 12
A6: ='8 КЛАСС '!A6 -> Дата проведения: 29.09.2026
A7: ='8 КЛАСС '!A7 -> Место проведения: МБОУ "СОШ №41" г. Чебоксары
A8: ='8 КЛАСС '!A8 -> Председатель жюри: Шишкина Т.Г., учитель русского языка и литературы
A9: ='8 КЛАСС '!A9 -> Члены жюри: Пастухова И.Н., учитель русского языка и литературы
A10: ='8 КЛАСС '!A10 -> Варламова Л.В., учитель русского языка и литературы
A11: ='8 КЛАСС '!A11 -> Иванова Н.Ф., учитель русского языка и литературы
A12: ='8 КЛАСС '!A12 -> Черепанова С.Ш., учитель русского языка и литературы
A13: ='8 КЛАСС '!A13 -> Порфирьева Д.М., учитель русского языка и литературы
A15: № | B15: Шифр | C15: Ф.И.О. участника (полностью) | D15: Город | E15: Наименование ОО (сокращенное наименование по Уставу) | F15: Класс, в котором обучается | G15: Класс, за который выступает | H15: Ф.И.О. наставника (полностью) | I15: Задание 1 | J15: Задание 2 | K15: Задание 3 | L15: Задание 4 | M15: Задание 5 | N15: Задание 6 | O15: Задание 7 | P15: Задание 8 | Q15: Задание 9 | R15: Задание 10 | S15: ИТОГО БАЛЛОВ | T15: МАКСИМАЛЬНЫЙ БАЛЛ | U15: Эффективность участия (%) | V15: Результат (победитель/призер/ участник)
A16: 1 | B16: Л-5-1 | C16: Петрова София Леонидовна | D16: г. Чебоксары | E16: МБОУ "СОШ № 41" г. Чебоксары | F16: 5 | G16: 5 | H16: Артемьева Ирина Геннадьевна | I16: 1 | K16: 1 | L16: 0 | M16: 1 | N16: 0 | O16: 0 | P16: 1 | Q16: 1 | R16: 0 | S16: =SUM(I16:R16) -> 5 | T16: 40 | U16: 13 | V16: участник
A17: 2 | B17: Л-5-2 | C17: Петрова Юлия Александровна | D17: г. Чебоксары | E17: МБОУ "СОШ № 41" г. Чебоксары | F17: 5 | G17: 5 | H17: Артемьева Ирина Геннадьевна | I17: 3 | J17: 3 | K17: 1 | L17: 0 | M17: 1 | N17: 0 | O17: 0 | P17: 1 | Q17: 1 | R17: 0 | S17: =SUM(I17:R17) -> 10 | T17: 40 | U17: 25 | V17: участник
A18: 3 | B18: Л-5-3 | C18: Барсегян Мариам Эдуардовна | D18: г. Чебоксары | E18: МБОУ "СОШ № 41" г. Чебоксары | F18: 5 | G18: 5 | H18: Артемьева Ирина Геннадьевна | I18: 3 | J18: 3 | K18: 1 | L18: 0 | M18: 1 | N18: 0 | O18: 0 | P18: 1 | Q18: 1 | R18: 0 | S18: =SUM(I18:R18) -> 10 | T18: 40 | U18: 25 | V18: участник
A19: 4 | B19: Л-5-4 | C19: Шарукова Варвара Олеговна | D19: г. Чебоксары | E19: МБОУ "СОШ № 41" г. Чебоксары | F19: 5 | G19: 5 | H19: Артемьева Ирина Геннадьевна | I19: 3 | J19: 3 | K19: 1 | L19: 0 | M19: 1 | N19: 0 | O19: 0 | P19: 1 | Q19: 1 | R19: 0 | S19: =SUM(I19:R19) -> 10 | T19: 40 | U19: 25 | V19: участник
A20: 5 | B20: Л-5-5 | C20: Куликова Кира Александровна | D20: г. Чебоксары | E20: МБОУ "СОШ № 41" г. Чебоксары | F20: 5 | G20: 5 | H20: Черепанова Светлана Шамильевна | I20: 3 | J20: 3 | K20: 0 | L20: 1 | M20: 1 | N20: 0 | O20: 0 | P20: 1 | Q20: 1 | R20: 2 | S20: =SUM(I20:R20) -> 12 | T20: 40 | U20: 30 | V20: участник
A21: 6 | B21: Л-5-6 | C21: Ильина Дана Анатольевна | D21: г. Чебоксары | E21: МБОУ "СОШ № 41" г. Чебоксары | F21: 5 | G21: 5 | H21: Черепанова Светлана Шамильевна | I21: 1 | J21: 0 | K21: 0 | L21: 0 | M21: 0 | N21: 0 | O21: 0 | P21: 0 | Q21: 1 | R21: 0 | S21: =SUM(I21:R21) -> 2 | T21: 40 | U21: 5 | V21: участник
A22: 7 | B22: Л-5-7 | C22: Гурьева Ксения Андреевна | D22: г. Чебоксары | E22: МБОУ "СОШ № 41" г. Чебоксары | F22: 5 | G22: 5 | H22: Иванова Юлия Евгеньевна | I22: 3 | J22: 3 | K22: 1 | L22: 1 | M22: 1 | N22: 0 | O22: 0 | P22: 1 | Q22: 1 | R22: 4 | S22: =SUM(I22:R22) -> 15 | T22: 40 | U22: 38 | V22: участник
A23: 8 | B23: Л-5-8 | C23: Николаева Арина Олеговна | D23: г. Чебоксары | E23: МБОУ "СОШ № 41" г. Чебоксары | F23: 5 | G23: 5 | H23: Иванова Юлия Евгеньевна | I23: 5 | J23: 0 | K23: 0 | L23: 0 | M23: 1 | N23: 0 | O23: 1 | P23: 0 | Q23: 1 | R23: 10 | S23: =SUM(I23:R23) -> 18 | T23: 40 | U23: 45 | V23: участник
A24: 9 | B24: Л-5-9 | C24: Николаева Анна Владимировна | D24: г. Чебоксары | E24: МБОУ "СОШ № 41" г. Чебоксары | F24: 5 | G24: 5 | H24: Иванова Юлия Евгеньевна | I24: 5 | J24: 0 | K24: 0 | L24: 0 | M24: 0 | N24: 0 | O24: 1 | P24: 1 | Q24: 1 | R24: 9 | S24: =SUM(I24:R24) -> 17 | T24: 40 | U24: 43 | V24: участник
A25: 10 | B25: Л-5-10 | C25: Петрова Эмилия Романовна | D25: г. Чебоксары | E25: МБОУ "СОШ № 41" г. Чебоксары | F25: 5 | G25: 5 | H25: Порфирьева Дина Максимовна | I25: 1 | J25: 0 | K25: 0 | L25: 0 | M25: 1 | N25: 0 | O25: 1 | P25: 1 | Q25: 0 | R25: 2 | S25: =SUM(I25:R25) -> 6 | T25: 40 | U25: 15 | V25: участник
A26: 11 | B26: Л-5-11 | C26: Гриневич Кира Федоровна | D26: г. Чебоксары | E26: МБОУ "СОШ № 41" г. Чебоксары | F26: 5 | G26: 5 | H26: Порфирьева Дина Максимовна | I26: 1 | J26: 1 | K26: 0 | L26: 0 | M26: 0 | N26: 0 | O26: 0 | P26: 1 | Q26: 1 | R26: 1 | S26: =SUM(I26:R26) -> 5 | T26: 40 | U26: 13 | V26: участник
A27: 12 | B27: Л-5-12 | C27: Карсаков Егор Евгеньевич | D27: г. Чебоксары | E27: МБОУ "СОШ № 41" г. Чебоксары | F27: 5 | G27: 5 | H27: Порфирьева Дина Максимовна | I27: 3 | J27: 3 | K27: 0 | L27: 1 | M27: 0 | N27: 0 | O27: 0 | P27: 1 | Q27: 1 | R27: 10 | S27: =SUM(I27:R27) -> 19 | T27: 40 | U27: 48 | V27: участник
B31: Председатель жюри: | H31: ____________________
B32: Члены жюри:
H33: ____________________
H34: ____________________
H35: ____________________
H36: ____________________
H37: ____________________
H38: ____________________
H39: ____________________
H40: ____________________
H41: ____________________

Sheet 6 КЛАСС 
A3: Протокол школьного этапа этапа всероссийской олимпиады школьников по литературе в 2026-2027 уч.г., 6 класс
A5: Количество участников: 9
A6: ='8 КЛАСС '!A6 -> Дата проведения: 29.09.2026
A7: ='8 КЛАСС '!A7 -> Место проведения: МБОУ "СОШ №41" г. Чебоксары
A8: ='8 КЛАСС '!A8 -> Председатель жюри: Шишкина Т.Г., учитель русского языка и литературы
A9: ='8 КЛАСС '!A9 -> Члены жюри: Пастухова И.Н., учитель русского языка и литературы
A10: ='8 КЛАСС '!A10 -> Варламова Л.В., учитель русского языка и литературы
A11: ='8 КЛАСС '!A11 -> Иванова Н.Ф., учитель русского языка и литературы
A12: ='8 КЛАСС '!A12 -> Черепанова С.Ш., учитель русского языка и литературы
A13: ='8 КЛАСС '!A13 -> Порфирьева Д.М., учитель русского языка и литературы
A15: № | B15: Шифр | C15: Ф.И.О. участника (полностью) | D15: Город | E15: Наименование ОО (сокращенное наименование по Уставу) | F15: Класс, в котором обучается | G15: Класс, за который выступает | H15: Ф.И.О. наставника (полностью) | I15: Задание 1.1. | J15: Задание 1.2. | K15: Задание 2.1. | L15: Задание 2.2. | M15: Задание 3 | R15: Задание 4 | S15: ИТОГО БАЛЛОВ | T15: МАКСИМАЛЬНЫЙ БАЛЛ | U15: Эффективность участия (%) | V15: Результат (победитель/призер/ участник)
A16: 1 | B16: Л-6-1 | C16: Соловьёва Виктория Евгеньевна | D16: г. Чебоксары | E16: МБОУ "СОШ № 41" г. Чебоксары | F16: 6 | G16: 6 | H16: Сорокина Дарья Алексеевна | I16: 1 | J16: 3 | K16: 1 | L16: 1 | M16: 1 | N16: 0 | O16: 1 | P16: 1 | Q16: 1 | R16: 15 | S16: 25 | T16: 40 | U16: 62.5 | V16: участник
A17: 2 | B17: Л-6-2 | C17: Патина Виктория Сергеевна | D17: г. Чебоксары | E17: МБОУ "СОШ № 41" г. Чебоксары | F17: 6 | G17: 6 | H17: Иванова Анастасия Георгиевна | I17: 5 | J17: 3 | K17: 0 | L17: 1 | M17: 3 | N17: 0 | O17: 0 | P17: 1 | Q17: 1 | R17: 15 | S17: 27 | T17: 40 | U17: 67.5 | V17: призёр
A18: 3 | B18: Л-6-3 | C18: Енчиков Константин Никитич | D18: г. Чебоксары | E18: МБОУ "СОШ № 41" г. Чебоксары | F18: 6 | G18: 6 | H18: Иванова Анастасия Георгиевна | I18: 2 | J18: 0 | K18: 0 | L18: 0 | M18: 1 | N18: 0 | O18: 1 | P18: 1 | Q18: 1 | R18: 15 | S18: 20 | T18: 40 | U18: 50 | V18: участник
A19: 4 | B19: Л-6-4 | C19: Андреев Николай Андреевич | D19: г. Чебоксары | E19: МБОУ "СОШ № 41" г. Чебоксары | F19: 6 | G19: 6 | H19: Иванова Анастасия Георгиевна | I19: 1 | J19: 3 | K19: 0 | L19: 1 | M19: 0 | N19: 0 | O19: 1 | P19: 1 | Q19: 1 | R19: 15 | S19: 23 | T19: 40 | U19: 57.5 | V19: участник
A20: 5 | B20: Л-6-5 | C20: Заудинова Асель Ильхомовна | D20: г. Чебоксары | E20: МБОУ "СОШ № 41" г. Чебоксары | F20: 6 | G20: 6 | H20: Варламова Лилиана Валерьевна | I20: 5 | J20: 3 | K20: 1 | L20: 0 | M20: 1 | N20: 1 | O20: 1 | P20: 1 | Q20: 1 | R20: 0 | S20: 14 | T20: 40 | U20: 35 | V20: участник
A21: 6 | B21: Л-6-6 | C21: Зайцева Камилла Сергеевна | D21: г. Чебоксары | E21: МБОУ "СОШ № 41" г. Чебоксары | F21: 6 | G21: 6 | H21: Владимирова Антонина Геннадьевна | I21: 2 | J21: 3 | K21: 1 | L21: 1 | M21: 1 | N21: 0 | O21: 1 | P21: 1 | Q21: 1 | R21: 15 | S21: 26 | T21: 40 | U21: 65 | V21: участник
A22: 7 | B22: Л-6-7 | C22: Шалтыкова Полина Александровна | D22: г. Чебоксары | E22: МБОУ "СОШ № 41" г. Чебоксары | F22: 6 | G22: 6 | H22: Варламова Лилиана Валерьевна | I22: 5 | J22: 3 | K22: 1 | L22: 1 | M22: 1 | N22: 1 | O22: 1 | P22: 1 | Q22: 1 | R22: 20 | S22: 35 | T22: 40 | U22: 87.5 | V22: победитель
A23: 8 | B23: Л-6-8 | C23: Матвеева Юлия Леонидовна | D23: г. Чебоксары | E23: МБОУ "СОШ № 41" г. Чебоксары | F23: 6 | G23: 6 | H23: Владимирова Антонина Геннадьевна | I23: 2 | J23: 3 | K23: 1 | L23: 1 | M23: 1 | N23: 0 | O23: 1 | P23: 1 | Q23: 1 | R23: 15 | S23: 26 | T23: 40 | U23: 65 | V23: участник
A24: 9 | B24: Л-6-9 | C24: Кокарева Алиса Николаевна | D24: г. Чебоксары | E24: МБОУ "СОШ № 41" г. Чебоксары | F24: 6 | G24: 6 | H24: Владимирова Антонина Геннадьевна | I24: 5 | J24: 3 | K24: 1 | L24: 0 | M24: 1 | N24: 0 | O24: 0 | P24: 1 | Q24: 1 | R24: 15 | S24: 26 | T24: 40 | U24: 65 | V24: участник
B28: Председатель жюри: | H28: ____________________
B29: Члены жюри:
H30: ____________________
H31: ____________________
H32: ____________________
H33: ____________________
H34: ____________________
H35: ____________________
H36: ____________________
H37: ____________________
H38: ____________________

Sheet 7 КЛАСС
A3: Протокол школьного этапа этапа всероссийской олимпиады школьников по литературе в 2026-2027 уч.г., 7 класс
A5: Количество участников: 15
A6: ='8 КЛАСС '!A6 -> Дата проведения: 29.09.2026
A7: ='8 КЛАСС '!A7 -> Место проведения: МБОУ "СОШ №41" г. Чебоксары
A8: ='8 КЛАСС '!A8 -> Председатель жюри: Шишкина Т.Г., учитель русского языка и литературы
A9: ='8 КЛАСС '!A9 -> Члены жюри: Пастухова И.Н., учитель русского языка и литературы
A10: ='8 КЛАСС '!A10 -> Варламова Л.В., учитель русского языка и литературы
A11: ='8 КЛАСС '!A11 -> Иванова Н.Ф., учитель русского языка и литературы
A12: ='8 КЛАСС '!A12 -> Черепанова С.Ш., учитель русского языка и литературы
A13: ='8 КЛАСС '!A13 -> Порфирьева Д.М., учитель русского языка и литературы
A16: № | B16: Шифр | C16: Ф.И.О. участника (полностью) | D16: Город | E16: Наименование ОО (сокращенное наименование по Уставу) | F16: Класс, в котором обучается | G16: Класс, за который выступает | H16: Ф.И.О. наставника (полностью) | I16: Задание 1 | J16: Задание 2 | K16: Задание 3 | L16: Задание 4 | M16: Задание 5 | N16: Задание 6 | O16: Задание 7 | P16: Задание 8 | Q16: Задание 9 | R16: Задание 10 | S16: Задание 11.1 | T16: Задание 11.2 | U16: Задание 11.3 | V16: ИТОГО БАЛЛОВ | W16: МАКСИМАЛЬНЫЙ БАЛЛ | X16: Эффективность участия (%) | Y16: Результат (победитель/призер/ участник)
A17: 1 | B17: Л-7-1 | C17: Казаков Матвей Леонидович | D17: г. Чебоксары | E17: МБОУ "СОШ № 41" г. Чебоксары | F17: 7 | G17: 7 | H17: Пастухова Ирина Николаевна | I17: 3 | J17: 1 | K17: 1 | L17: 0 | M17: 0 | N17: 1 | O17: 1 | P17: 0 | Q17: 0 | R17: 0 | S17: 6 | T17: 2 | U17: 4 | V17: 19 | W17: 39 | X17: 48 | Y17: участник
A18: 2 | B18: Л-7-2 | C18: Гурьева Мария Дмитриевна | D18: Г. Чебоксары | E18: МБОУ "СОШ № 41" г. Чебоксары | F18: 7 | G18: 7 | H18: Пастухова Ирина Николаевна | I18: 5 | J18: 1 | K18: 1 | L18: 1 | M18: 0 | N18: 0 | O18: 1 | P18: 0 | Q18: 1 | R18: 0 | S18: 8 | T18: 7 | U18: 4 | V18: 29 | W18: 39 | X18: 74 | Y18: призёр
A19: 3 | B19: Л-7-3 | C19: Викторова Татьяна Владимировна | D19: г. Чебоксары | E19: МБОУ "СОШ № 41" г. Чебоксары | F19: 7 | G19: 7 | H19: Пастухова Ирина Николаевна | I19: 5 | J19: 1 | K19: 1 | L19: 1 | M19: 0 | N19: 0 | O19: 1 | P19: 0 | Q19: 1 | R19: 0 | S19: 7 | T19: 3 | U19: 3 | V19: 23 | W19: 39 | X19: 58 | Y19: участник
A20: 4 | B20: Л-7-8 | C20: Селюшкина Анна Владимировна | D20: г. Чебоксары | E20: МБОУ "СОШ № 41" г. Чебоксары | F20: 7 | G20: 7 | H20: Пастухова Ирина Николаевна | I20: 5 | J20: 1 | K20: 1 | L20: 1 | M20: 0 | N20: 0 | O20: 1 | P20: 0 | Q20: 1 | R20: 0 | S20: 7 | T20: 6 | U20: 3 | V20: 26 | W20: 39 | X20: 66 | Y20: участник
A21: 5 | B21: Л-7-11 | C21: Иванов Артемий Романович | D21: г. Чебоксары | E21: МБОУ "СОШ № 41" г. Чебоксары | F21: 7 | G21: 7 | H21: Сорокина Дарья Алексеевна | I21: 5 | J21: 0 | K21: 1 | L21: 1 | M21: 1 | N21: 1 | O21: 1 | P21: 1 | Q21: 1 | R21: 1 | S21: 0 | T21: 0 | U21: 0 | V21: 13 | W21: 39 | X21: 33 | Y21: участник
A22: 6 | B22: Л-7-7 | C22: Максимов Кирилл Александрович | D22: г. Чебоксары | E22: МБОУ "СОШ № 41" г. Чебоксары | F22: 7 | G22: 7 | H22: Пастухова Ирина Николаевна | I22: 2 | J22: 1 | K22: 1 | L22: 0 | M22: 0 | N22: 1 | O22: 1 | P22: 0 | Q22: 1 | R22: 0 | S22: 7 | T22: 1 | U22: 4 | V22: 19 | W22: 39 | X22: 48 | Y22: участник
A23: 7 | B23: Л-7-4 | C23: Ковтун Михаил Евгеньевич | D23: г. Чебоксары | E23: МБОУ "СОШ № 41" г. Чебоксары | F23: 7 | G23: 7 | H23: Сорокина Дарья Алексеевна | I23: 0 | J23: 0 | K23: 1 | L23: 0 | M23: 0 | N23: 1 | O23: 0 | P23: 0 | Q23: 1 | R23: 0 | S23: 0 | T23: 0 | U23: 0 | V23: 3 | W23: 39 | X23: 7 | Y23: участник
A24: 8 | B24: Л-7-9 | C24: Сапожникова Анита Евгеньевна | D24: г. Чебоксары | E24: МБОУ "СОШ № 41" г. Чебоксары | F24: 7 | G24: 7 | H24: Сорокина Дарья Алексеевна | I24: 5 | J24: 1 | K24: 1 | L24: 1 | M24: 1 | N24: 0 | O24: 1 | P24: 1 | Q24: 0 | R24: 1 | S24: 6 | T24: 1 | U24: 4 | V24: 23 | W24: 39 | X24: 58 | Y24: участник
A25: 9 | B25: Л-7-5 | C25: Кудряшова Дарья Дмитриевна | D25: г. Чебоксары | E25: МБОУ "СОШ № 41" г. Чебоксары | F25: 7 | G25: 7 | H25: Сорокина Дарья Алексеевна | I25: 5 | J25: 1 | K25: 1 | L25: 1 | M25: 1 | N25: 0 | O25: 1 | P25: 1 | Q25: 1 | R25: 1 | S25: 5 | T25: 3 | U25: 4 | V25: 25 | W25: 39 | X25: 64 | Y25: участник
A26: 10 | B26: Л-7-10 | C26: Никифоров Арсений Фуадович | D26: г. Чебоксары | E26: МБОУ "СОШ № 41" г. Чебоксары | F26: 7 | G26: 7 | H26: Сорокина Дарья Алексеевна | I26: 2 | J26: 1 | K26: 1 | L26: 0 | M26: 1 | N26: 0 | O26: 0 | P26: 0 | Q26: 0 | R26: 0 | S26: 6 | T26: 8 | U26: 4 | V26: 23 | W26: 39 | X26: 58 | Y26: участник
A27: 11 | B27: Л-7-13 | C27: Зайнидинова Яна Темуровна | D27: г. Чебоксары | E27: МБОУ "СОШ № 41" г. Чебоксары | F27: 7 | G27: 7 | H27: Владимирова Антонина Геннадьевна | I27: 2 | J27: 1 | K27: 1 | L27: 0 | M27: 1 | N27: 1 | O27: 1 | P27: 0 | Q27: 1 | R27: 0 | S27: 4 | T27: 3 | U27: 4 | V27: 19 | W27: 39 | X27: 48 | Y27: участник
A28: 12 | B28: Л-7-6 | C28: Генералова Виктория Алексеевна | D28: г. Чебоксары | E28: МБОУ "СОШ № 41" г. Чебоксары | F28: 7 | G28: 7 | H28: Сорокина Дарья Алексеевна | I28: 5 | J28: 1 | K28: 1 | L28: 1 | M28: 1 | N28: 1 | O28: 1 | P28: 1 | Q28: 1 | R28: 1 | S28: 8 | T28: 10 | U28: 4 | V28: 36 | W28: 39 | X28: 92 | Y28: победитель
... A31: 15 | B31: Л-7-15 | C31: Гулькин Иван Денисович | D31: г. Чебоксары | E31: МБОУ "СОШ № 41" г. Чебоксары | F31: 7 | G31: 7 | H31: Сорокина Дарья Алексеевна | I31: 5 | J31: 1 | K31: 1 | L31: 1 | M31: 1 | N31: 1 | O31: 1 | P31: 1 | Q31: 1 | R31: 1 | S31: 5 | T31: 4 | U31: 4 | V31: 27 | W31: 39 | X31: 69 | Y31: призёр
B35: Председатель жюри: | H35: ____________________
B36: Члены жюри:
H37: ____________________
H38: ____________________
H39: ____________________
H40: ____________________
H41: ____________________
H42: ____________________
H43: ____________________
H44: ____________________
H45: ____________________

Sheet 8 КЛАСС 
A3: Протокол школьного этапа этапа всероссийской олимпиады школьников по литературе в 2026-2027 уч.г., 8 класс
A5: Количество участников : 29
A6: ='11 КЛАСС'!A6 -> Дата проведения: 29.09.2026
A7: ='11 КЛАСС'!A7 -> Место проведения: МБОУ "СОШ №41" г. Чебоксары
A8: ='11 КЛАСС'!A8 -> Председатель жюри: Шишкина Т.Г., учитель русского языка и литературы
A9: ='11 КЛАСС'!A9 -> Члены жюри: Пастухова И.Н., учитель русского языка и литературы
A10: ='11 КЛАСС'!A10 -> Варламова Л.В., учитель русского языка и литературы
A11: ='11 КЛАСС'!A11 -> Иванова Н.Ф., учитель русского языка и литературы
A12: ='11 КЛАСС'!A12 -> Черепанова С.Ш., учитель русского языка и литературы
A13: ='11 КЛАСС'!A13 -> Порфирьева Д.М., учитель русского языка и литературы
A15: № | B15: Шифр | C15: Ф.И.О. участника (полностью) | D15: Город | E15: Наименование ОО (сокращенное наименование по Уставу) | F15: Класс, в котором обучается | G15: Класс, за который выступает | H15: Ф.И.О. наставника (полностью) | I15: Задание 1 | J15: Задание 2 | K15: Задание 3 | L15: Задание 4 | M15: Задание 5 | N15: Задание 6 | O15: Задание 7 | P15: Задание 8 | Q15: Задание 9 | R15: Задание 10 | S15: Задание 11 | T15: ИТОГО БАЛЛОВ | U15: МАКСИМАЛЬНЫЙ БАЛЛ | V15: Эффективность участия (%) | W15: Результат (победитель/призер/ участник)
A16: 1 | B16: Л-8-1 | C16: Милицкова Софья Андреевна | D16: г. Чебоксары | E16: МБОУ "СОШ №41" | F16: 8М | G16: 8 | H16: Варламова Лилиана Валерьевна | I16: 5 | J16: 1 | K16: 1 | L16: 1 | M16: 1 | N16: 0 | O16: 1 | P16: 1 | Q16: 0 | R16: 1 | S16: 10 | T16: 22 | U16: 39 | V16: 56 | W16: призер
A17: 2 | B17: Л-8-2 | C17: Степанов Артем Романович | D17: г. Чебоксары | E17: МБОУ "СОШ №41" | F17: 8В | G17: 8 | H17: Черепанова Светлана Шамильевна | I17: 5 | J17: 1 | K17: 1 | L17: 0 | M17: 1 | N17: 0 | O17: 1 | P17: 1 | Q17: 1 | R17: 1 | S17: 13 | T17: 25 | U17: 39 | V17: 64 | W17: призер
A18: 3 | B18: Л-8-3 | C18: Андреева Юлия Алексеевна | D18: г. Чебоксары | E18: МБОУ "СОШ №41" | F18: 8М | G18: 8 | H18: Варламова Лилиана Валерьевна | I18: 5 | J18: 1 | K18: 1 | L18: 1 | M18: 1 | N18: 0 | O18: 1 | P18: 1 | Q18: 0 | R18: 0 | S18: 2 | T18: 13 | U18: 39 | V18: 33 | W18: участник
A19: 4 | B19: Л-8-4 | C19: Обручкова Екатерина Юрьевна | D19: г. Чебоксары | E19: МБОУ "СОШ №41" | F19: 8В | G19: 8 | H19: Черепанова Светлана Шамильевна | I19: 4 | J19: 1 | K19: 1 | L19: 1 | M19: 1 | N19: 0 | O19: 1 | P19: 1 | Q19: 1 | R19: 1 | S19: 2 | T19: 14 | U19: 39 | V19: 36 | W19: участник
A20: 5 | B20: Л-8-5 | C20: Яковлев Александр Геннадьевич | D20: г. Чебоксары | E20: МБОУ "СОШ №41" | F20: 8В | G20: 8 | H20: Черепанова Светлана Шамильевна | I20: 5 | J20: 1 | K20: 1 | L20: 0 | M20: 0 | N20: 0 | O20: 1 | P20: 1 | Q20: 1 | R20: 1 | S20: 11 | T20: 22 | U20: 39 | V20: 56 | W20: призер
A21: 6 | B21: Л-8-6 | C21: Счетчиков Роман Игоревич | D21: г. Чебоксары | E21: МБОУ "СОШ №41" | F21: 8М | G21: 8 | H21: Варламова Лилиана Валерьевна | I21: 5 | J21: 1 | K21: 1 | L21: 1 | M21: 0 | N21: 1 | O21: 1 | P21: 1 | Q21: 1 | R21: 1 | S21: 9 | T21: 22 | U21: 39 | V21: 56 | W21: призер
A22: 7 | B22: Л-8-7 | C22: Александрова Александра Михайловна | D22: г. Чебоксары | E22: МБОУ "СОШ №41" | F22: 8М | G22: 8 | H22: Варламова Лилиана Валерьевна | I22: 5 | J22: 1 | K22: 1 | L22: 1 | M22: 1 | N22: 0 | O22: 1 | P22: 0 | Q22: 1 | R22: 1 | S22: 8 | T22: 19 | U22: 39 | V22: 48 | W22: участник
A23: 8 | B23: Л-8-8 | C23: Шоркина Екатерина Сергеевна | D23: г. Чебоксары | E23: МБОУ "СОШ №41" | F23: 8М | G23: 8 | H23: Варламова Лилиана Валерьевна | I23: 5 | J23: 1 | K23: 1 | L23: 1 | M23: 1 | N23: 0 | O23: 1 | P23: 1 | Q23: 1 | R23: 1 | S23: 6 | T23: 19 | U23: 39 | V23: 48 | W23: участник
A24: 9 | B24: Л-8-9 | C24: Дубинкин Егор Романович | D24: г. Чебоксары | E24: МБОУ "СОШ №41" | F24: 8М | G24: 8 | H24: Варламова Лилиана Валерьевна | I24: 5 | J24: 1 | K24: 1 | L24: 1 | M24: 1 | N24: 0 | O24: 1 | P24: 1 | Q24: 1 | R24: 1 | S24: 6 | T24: 19 | U24: 39 | V24: 48 | W24: участник
A25: 10 | B25: Л-8-10 | C25: Голубев Григорий Александрович | D25: г. Чебоксары | E25: МБОУ "СОШ №41" | F25: 8М | G25: 8 | H25: Варламова Лилиана Валерьевна | I25: 5 | J25: 1 | K25: 1 | L25: 1 | M25: 1 | N25: 0 | O25: 1 | P25: 1 | Q25: 1 | R25: 1 | S25: 4 | T25: 17 | U25: 39 | V25: 44 | W25: участник
A26: 11 | B26: Л-8-11 | C26: Данилов Максим Евгеньевич | D26: г. Чебоксары | E26: МБОУ "СОШ №41" | F26: 8М | G26: 8 | H26: Варламова Лилиана Валерьевна | I26: 5 | J26: 1 | K26: 1 | L26: 1 | M26: 1 | N26: 1 | O26: 0 | P26: 0 | Q26: 1 | R26: 1 | S26: 7 | T26: 19 | U26: 39 | V26: 48 | W26: участник
A27: 12 | B27: Л-8-12 | C27: Капустина Кира Алексеевна | D27: г. Чебоксары | E27: МБОУ "СОШ №41" | F27: 8М | G27: 8 | H27: Варламова Лилиана Валерьевна | I27: 5 | J27: 1 | K27: 1 | L27: 1 | M27: 1 | N27: 0 | O27: 1 | P27: 0 | Q27: 1 | R27: 1 | S27: 6 | T27: 18 | U27: 39 | V27: 46 | W27: участник
... A31: 16 | B31: Л-8-16 | C31: Филиппов Алексей Александрович | D31: г. Чебоксары | E31: МБОУ "СОШ №41" | F31: 8Ф | G31: 8 | H31: Иванова Наталия Федоровна | I31: 1 | J31: 1 | K31: 1 | L31: 0 | M31: 1 | N31: 0 | O31: 1 | P31: 0 | Q31: 1 | R31: 0 | S31: 8 | T31: 14 | U31: 39 | V31: 36 | W31: участник
A32: 17 | B32: Л-8-17 | C32: Владимирова Виктория Андреевна | D32: г. Чебоксары | E32: МБОУ "СОШ №41" | F32: 8Ф | G32: 8 | H32: Иванова Наталия Федоровна | I32: 5 | J32: 1 | K32: 1 | L32: 1 | M32: 1 | N32: 0 | O32: 1 | P32: 1 | Q32: 1 | R32: 1 | S32: 2 | T32: 15 | U32: 39 | V32: 38 | W32: участник | X32: у
A33: 18 | B33: Л-8-18 | C33: Суркаева Яна Дмитриевеа | D33: г. Чебоксары | E33: МБОУ "СОШ №41" | F33: 8Ф | G33: 8 | H33: Иванова Наталия Федоровна | I33: 5 | J33: 1 | K33: 0 | L33: 1 | M33: 0 | N33: 1 | O33: 1 | P33: 1 | Q33: 1 | R33: 1 | S33: 5 | T33: 17 | U33: 39 | V33: 44 | W33: участник
A34: 19 | B34: Л-8-19 | C34: Никифоров Максим Владиславович | D34: г. Чебоксары | E34: МБОУ "СОШ №41" | F34: 8Ф | G34: 8 | H34: Иванова Наталия Федоровна | I34: 2 | J34: 1 | K34: 1 | L34: 1 | M34: 1 | N34: 0 | O34: 1 | P34: 0 | Q34: 0 | R34: 0 | S34: 0 | T34: 7 | U34: 39 | V34: 18 | W34: участник
A35: 20 | B35: Л-8-20 | C35: Ефимов Роман Леонидович | D35: г. Чебоксары | E35: МБОУ "СОШ №41" | F35: 8Ф | G35: 8 | H35: Иванова Наталия Федоровна | I35: 1 | J35: 1 | K35: 1 | L35: 0 | M35: 1 | N35: 0 | O35: 1 | P35: 0 | Q35: 0 | R35: 0 | S35: 0 | T35: 5 | U35: 39 | V35: 13 | W35: участник
A36: 21 | B36: Л-8-21 | C36: Начевкина Евгения Влавдиславовна | D36: г. Чебоксары | E36: МБОУ "СОШ №41" | F36: 8В | G36: 8 | H36: Черепанова Светлана Шамильевна | I36: 5 | J36: 1 | K36: 1 | L36: 0 | M36: 1 | N36: 0 | O36: 1 | P36: 1 | Q36: 1 | R36: 1 | S36: 7 | T36: 19 | U36: 39 | V36: 48 | W36: участник
A37: 22 | B37: Л-8-22 | C37: Егорова Анастасия Александровна | D37: г. Чебоксары | E37: МБОУ "СОШ №41" | F37: 8Б | G37: 8 | H37: Вадимирова Антонина Геннадьевна | I37: 2 | J37: 1 | K37: 1 | L37: 1 | M37: 1 | N37: 0 | O37: 1 | P37: 0 | Q37: 1 | R37: 1 | S37: 4 | T37: 13 | U37: 39 | V37: 33 | W37: участник
A38: 23 | B38: Л-8-23 | C38: Степанова Милана Эдуардовна | D38: г. Чебоксары | E38: МБОУ "СОШ №41" | F38: 8Б | G38: 8 | H38: Владимирова Антонина Геннадьевна | I38: 5 | J38: 1 | K38: 1 | L38: 1 | M38: 1 | N38: 0 | O38: 0 | P38: 0 | Q38: 0 | R38: 0 | S38: 4 | T38: 13 | U38: 39 | V38: 33 | W38: участник
A39: 24 | B39: Л-8-24 | C39: Киселева Мария Александровна | D39: г. Чебоксары | E39: МБОУ "СОШ №41" | F39: 8Б | G39: 8 | H39: Владимирова Антонина Геннадьевна | I39: 2 | J39: 1 | K39: 1 | L39: 1 | M39: 1 | N39: 0 | O39: 1 | P39: 1 | Q39: 1 | R39: 1 | S39: 9 | T39: 19 | U39: 39 | V39: 48 | W39: участник
A40: 25 | B40: Л-8-25 | C40: Кириллова Дарья Андреевна | D40: г. Чебоксары | E40: МБОУ "СОШ №41" | F40: 8Б | G40: 8 | H40: Владимирова Антонина Геннадьевна | I40: 5 | J40: 1 | K40: 0 | L40: 1 | M40: 1 | N40: 1 | O40: 0 | P40: 0 | Q40: 0 | R40: 0 | S40: 0 | T40: 9 | U40: 39 | V40: 23 | W40: участник
A41: 26 | B41: Л-8-26 | C41: Акимова Кристина Владимировна | D41: г. Чебоксары | E41: МБОУ "СОШ №41" | F41: 8В | G41: 8 | H41: Черепанова Светлана Шамильевна | I41: 5 | J41: 1 | K41: 1 | L41: 0 | M41: 1 | N41: 0 | O41: 1 | P41: 1 | Q41: 1 | R41: 1 | S41: 6 | T41: 18 | U41: 39 | V41: 46 | W41: участник
A42: 27 | B42: Л-8-27 | C42: Логинова Полина Сергеевна | D42: г. Чебоксары | E42: МБОУ "СОШ №41" | F42: 8В | G42: 8 | H42: Черепанова Светлана Шамильевна | I42: 5 | J42: 1 | K42: 1 | L42: 1 | M42: 1 | N42: 0 | O42: 1 | P42: 1 | Q42: 1 | R42: 1 | S42: 2 | T42: 15 | U42: 39 | V42: 38 | W42: участник
A43: 28 | B43: Л-8-28 | C43: Степанова Диана Сергеевна | D43: г. Чебоксары | E43: МБОУ "СОШ №41" | F43: 8Б | G43: 8 | H43: Владимирова Антонина Геннадьевна | I43: 5 | J43: 1 | K43: 1 | L43: 1 | M43: 1 | N43: 0 | O43: 1 | P43: 1 | Q43: 0 | R43: 1 | S43: 7 | T43: 19 | U43: 39 | V43: 48 | W43: участник
A44: 29 | B44: Л-8-29 | C44: Борисова Эллина Александровна | D44: г. Чебоксары | E44: МБОУ "СОШ №41" | F44: 8Б | G44: 8 | H44: Владимирова Антонина Геннадьевна | I44: 5 | J44: 1 | K44: 1 | L44: 1 | M44: 1 | N44: 1 | O44: 1 | P44: 0 | Q44: 0 | R44: 0 | S44: 4 | T44: 15 | U44: 39 | V44: 38 | W44: участник
B47: Председатель жюри: | H47: ____________________
B48: Члены жюри:
H49: ____________________
...

Sheet 9 КЛАСС
A3: Протокол школьного этапа этапа всероссийской олимпиады школьников по литеруре в 2026-2027 уч.г., 9 класс
A5: Количество участников: 24
A6: ='10 КЛАСС'!A6 -> Дата проведения: 29.09.2026
A7: ='10 КЛАСС'!A7 -> Место проведения: МБОУ "СОШ №41" г. Чебоксары
A8: ='10 КЛАСС'!A8 -> Председатель жюри: Шишкина Т.Г., учитель русского языка и литературы
A9: ='10 КЛАСС'!A9 -> Члены жюри: Пастухова И.Н., учитель русского языка и литературы
A10: ='10 КЛАСС'!A10 -> Варламова Л.В., учитель русского языка и литературы
A11: ='10 КЛАСС'!A11 -> Иванова Н.Ф., учитель русского языка и литературы
A12: ='10 КЛАСС'!A12 -> Черепанова С.Ш., учитель русского языка и литературы
A13: ='10 КЛАСС'!$A$13 -> Порфирьева Д.М., учитель русского языка и литературы
A15: № | B15: Шифр | C15: Ф.И.О. участника (полностью) | D15: Город | E15: Наименование ОО (сокращенное наименование по Уставу) | F15: Класс, в котором обучается | G15: Класс, за который выступает | H15: Ф.И.О. наставника (полностью) | I15: Задание 1.1. | J15: Задание 1.2. | K15: Задание 1.3. | L15: Задание 1.4. | M15: Задание 1.5 | N15: Задание 1.6 | O15: Задание 2.1. | P15: Задание 2.2. | Q15: Задание 2.3 | R15: ИТОГО БАЛЛОВ | S15: МАКСИМАЛЬНЫЙ БАЛЛ | T15: Эффективность участия (%) | U15: Результат (победитель/призер/ участник)
A16: 1 | B16: Л-9-1 | C16: Серенкова Анна Дмитриевна | D16: г. Чебоксары | E16: МБОУ "СОШ № 41" г. Чебоксары | F16: 9 | G16: 9 | H16: Сорокина Дарья Алексеевна | I16: 0 | J16: 0 | K16: 0 | L16: 0 | M16: 0 | N16: 0 | O16: 4 | P16: 1 | Q16: 1 | R16: 6 | S16: 60 | T16: 10 | U16: участник
A17: 2 | B17: Л-9-2 | C17: Крайнова Ксения Алексеевна | D17: г. Чебоксары | E17: МБОУ "СОШ № 41" г. Чебоксары | F17: 9 | G17: 9 | H17: Сорокина Дарья Алексеевна | I17: 0 | J17: 0 | K17: 0 | L17: 0 | M17: 0 | N17: 0 | O17: 4 | P17: 1 | Q17: 1 | R17: 6 | S17: 60 | T17: 10 | U17: участник
A18: 3 | B18: Л-9-3 | C18: Викторова Влада Владимировна | D18: г. Чебоксары | E18: МБОУ "СОШ № 41" г. Чебоксары | F18: 9 | G18: 9 | H18: Черепанова Светлана Шамильевна | I18: 6 | J18: 8 | K18: 4 | L18: 2 | M18: 3 | N18: 3 | O18: 10 | P18: 1 | Q18: 1 | R18: 38 | S18: 60 | T18: 63 | U18: призер
A19: 4 | B19: Л-9-4 | C19: Васильева Кира Юрьевна | D19: г. Чебоксары | E19: МБОУ "СОШ № 41" г. Чебоксары | F19: 9 | G19: 9 | H19: Черепанова Светлана Шамильевна | I19: 5 | J19: 6 | K19: 3 | L19: 0 | M19: 2 | N19: 3 | O19: 0 | P19: 0 | Q19: 0 | R19: 19 | S19: 60 | T19: 31 | U19: участник
A20: 5 | B20: Л-9-5 | C20: Павлова Полина Евгеньевна | D20: г. Чебоксары | E20: МБОУ "СОШ № 41" г. Чебоксары | F20: 9 | G20: 9 | H20: Черепанова Светлана Шамильевна | I20: 5 | J20: 6 | K20: 2 | L20: 0 | M20: 0 | N20: 2 | O20: 0 | P20: 0 | Q20: 0 | R20: 15 | S20: 60 | T20: 25 | U20: участник
A21: 6 | B21: Л-9-6 | C21: Семёнова Екатерина Сергеевна | D21: г. Чебоксары | E21: МБОУ "СОШ № 41" г. Чебоксары | F21: 9 | G21: 9 | H21: Черепанова Светлана Шамильевна | I21: 8 | J21: 6 | K21: 3 | L21: 0 | M21: 2 | N21: 3 | O21: 0 | P21: 0 | Q21: 0 | R21: 22 | S21: 60 | T21: 37 | U21: участник
A22: 7 | B22: Л-9-7 | C22: Коржаков Егор Александрович | D22: г. Чебоксары | E22: МБОУ "СОШ № 41" г. Чебоксары | F22: 9 | G22: 9 | H22: Черепанова Светлана Шамильевна | I22: 5 | J22: 7 | K22: 3 | L22: 3 | M22: 3 | N22: 2 | O22: 4 | P22: 2 | Q22: 1 | R22: 31 | S22: 60 | T22: 51 | U22: участник
A23: 8 | B23: Л-9-8 | C23: Никитина Вероника Сергеевна | D23: г. Чебоксары | E23: МБОУ "СОШ № 41" г. Чебоксары | F23: 9 | G23: 9 | H23: Черепанова Светлана Шамильевна | I23: 6 | J23: 7 | K23: 3 | L23: 2 | M23: 3 | N23: 2 | O23: 10 | P23: 1 | Q23: 1 | R23: 35 | S23: 60 | T23: 58 | U23: участник
A24: 9 | B24: Л-9-9 | C24: Сергеев Ярослав Савельевич | D24: г. Чебоксары | E24: МБОУ "СОШ № 41" г. Чебоксары | F24: 9 | G24: 9 | H24: Черепанова Светлана Шамильевна | I24: 8 | J24: 6 | K24: 4 | L24: 3 | M24: 3 | N24: 2 | O24: 4 | P24: 1 | Q24: 1 | R24: 32 | S24: 60 | T24: 53 | U24: участник
A25: 10 | B25: Л-9-10 | C25: Степанова Кристина Вячеславовна | D25: г. Чебоксары | E25: МБОУ "СОШ № 41" г. Чебоксары | F25: 9 | G25: 9 | H25: Черепанова Светлана Шамильевна | I25: 5 | J25: 6 | K25: 3 | L25: 2 | M25: 5 | N25: 3 | O25: 4 | P25: 1 | Q25: 1 | R25: 30 | S25: 60 | T25: 50 | U25: участник
A26: 11 | B26: Л-9-11 | C26: Степанова Мария Александровна | D26: г. Чебоксары | E26: МБОУ "СОШ № 41" г. Чебоксары | F26: 9 | G26: 9 | H26: Черепанова Светлана Шамильевна | I26: 5 | J26: 7 | K26: 3 | L26: 3 | M26: 3 | N26: 2 | O26: 9 | P26: 1 | Q26: 0 | R26: 33 | S26: 60 | T26: 55 | U26: участник
A27: 12 | B27: Л-9-12 | C27: Николаева Евдокия Алексеевна | D27: г. Чебоксары | E27: МБОУ "СОШ № 41" г. Чебоксары | F27: 9 | G27: 9 | H27: Черепанова Светлана Шамильевна | I27: 6 | J27: 6 | K27: 3 | L27: 1 | M27: 3 | N27: 1 | O27: 10 | P27: 1 | Q27: 1 | R27: 32 | S27: 60 | T27: 53 | U27: участник
A28: 13 | B28: Л-9-13 | C28: Васильев Максим Алексеевич | D28: г. Чебоксары | E28: МБОУ "СОШ № 41" г. Чебоксары | F28: 9 | G28: 9 | H28: Черепанова Светлана Шамильевна | I28: 5 | J28: 5 | K28: 2 | L28: 1 | M28: 2 | N28: 1 | O28: 12 | P28: 1 | Q28: 1 | R28: 30 | S28: 60 | T28: 50 | U28: участник
A29: 14 | B29: Л-9-14 | C29: Горбунов Дмитрий Олегович | D29: г. Чебоксары | E29: МБОУ "СОШ № 41" г. Чебоксары | F29: 9 | G29: 9 | H29: Черепанова Светлана Шамильевна | I29: 5 | J29: 5 | K29: 4 | L29: 2 | M29: 3 | N29: 1 | O29: 10 | P29: 1 | Q29: 0 | R29: 31 | S29: 60 | T29: 51 | U29: участник
... A39: 24 | B39: Л-9-24 | C39: Иванов Глеб Сергеевич | D39: г. Чебоксары | E39: МБОУ "СОШ № 41" г. Чебоксары | F39: 9 | G39: 9 | H39: Черепанова Светлана Шамильевна | I39: 8 | J39: 8 | K39: 4 | L39: 4 | M39: 3 | N39: 2 | O39: 10 | P39: 1 | Q39: 1 | R39: 41 | S39: 60 | T39: 68 | U39: призер
B43: Председатель жюри: | H43: ____________________
B44: Члены жюри:
H45: ____________________
H46: ____________________
H47: ____________________
H48: ____________________
H49: ____________________
H50: ____________________
H51: ____________________
H52: ____________________
H53: ____________________

Sheet 10 КЛАСС
A3: Протокол школьного этапа этапа всероссийской олимпиады школьников по литературе в 2026-2027 уч.г., 10 класс
A5: Количество участников: 11
A6: ='11 КЛАСС'!A6 -> Дата проведения: 29.09.2026
A7: ='11 КЛАСС'!A7 -> Место проведения: МБОУ "СОШ №41" г. Чебоксары
A8: ='11 КЛАСС'!A8 -> Председатель жюри: Шишкина Т.Г., учитель русского языка и литературы
A9: ='11 КЛАСС'!A9 -> Члены жюри: Пастухова И.Н., учитель русского языка и литературы
A10: ='11 КЛАСС'!A10 -> Варламова Л.В., учитель русского языка и литературы
A11: ='11 КЛАСС'!A11 -> Иванова Н.Ф., учитель русского языка и литературы
A12: ='11 КЛАСС'!A12 -> Черепанова С.Ш., учитель русского языка и литературы
A13: ='11 КЛАСС'!A13 -> Порфирьева Д.М., учитель русского языка и литературы
A15: № | B15: Шифр | C15: Ф.И.О. участника (полностью) | D15: Город | E15: Наименование ОО (сокращенное наименование по Уставу) | F15: Класс, в котором обучается | G15: Класс, за который выступает | H15: Ф.И.О. наставника (полностью) | I15: Задание 1 | J15: Задание 2 | K15: ИТОГО БАЛЛОВ | L15: МАКСИМАЛЬНЫЙ БАЛЛ | M15: Эффективность участия (%) | N15: Результат (победитель/призер/ участник)
A16: 1 | B16: Л-10-1 | C16: Петрова Алла Борисовна | D16: г. Чебоксары | E16: МБОУ " СОШ №41" г. Чебоксары | F16: 10 А | G16: 10 | H16: Варламова Лилиана Валерьевна | I16: 0 | J16: 0 | K16: 0 | L16: 60 | M16: 0 | N16: участник
A17: 2 | B17: Л-10-2 | C17: Горшкова София Михайловна | D17: г. Чебоксары | E17: МБОУ " СОШ №41" г. Чебоксары | F17: 10 А | G17: 10 | H17: Варламова Лилиана Валерьевна | I17: 26 | J17: 14 | K17: 40 | L17: 60 | M17: 67 | N17: участник
A18: 3 | B18: Л-10-3 | C18: Егоров Роман Евгеньевич | D18: г. Чебоксары | E18: МБОУ " СОШ №41" г. Чебоксары | F18: 10 А | G18: 10 | H18: Варламова Лилиана Валерьевна | I18: 43 | J18: 0 | K18: 43 | L18: 60 | M18: 72 | N18: участник
A19: 4 | B19: Л-10-4 | C19: Гурьева Анна Александровна | D19: г. Чебоксары | E19: МБОУ " СОШ №41" г. Чебоксары | F19: 10 А | G19: 10 | H19: Варламова Лилиана Валерьевна | I19: 36 | J19: 15 | K19: 51 | L19: 60 | M19: 85 | N19: победитель
A20: 5 | B20: Л-10-5 | C20: Васильева Алиса Валерьевна | D20: г. Чебоксары | E20: МБОУ " СОШ №41" г. Чебоксары | F20: 10 А | G20: 10 | H20: Варламова Лилиана Валерьевна | I20: 25 | J20: 15 | K20: 40 | L20: 60 | M20: 67 | N20: участник
A21: 6 | B21: Л-10-6 | C21: Быкова Валерия Евгеньевна | D21: г. Чебоксары | E21: МБОУ " СОШ №41" г. Чебоксары | F21: 10 А | G21: 10 | H21: Варламова Лилиана Валерьевна | I21: 20 | J21: 13 | K21: 33 | L21: 60 | M21: 55 | N21: участник
A22: 7 | B22: Л-10-7 | C22: Пименова Дарья Михайловна | D22: г. Чебоксары | E22: МБОУ " СОШ №41" г. Чебоксары | F22: 10 А | G22: 10 | H22: Варламова Лилиана Валерьевна | I22: 36 | J22: 13 | K22: 49 | L22: 60 | M22: 82 | N22: призер
A23: 8 | B23: Л-10-8 | C23: Гридасова Виктория Федоровна | D23: г. Чебоксары | E23: МБОУ " СОШ №41" г. Чебоксары | F23: 10 А | G23: 10 | H23: Варламова Лилиана Валерьевна | I23: 31 | J23: 10 | K23: 41 | L23: 60 | M23: 68 | N23: участник
A24: 9 | B24: Л-10-9 | C24: Федотова Ксения Юрьевна | D24: г. Чебоксары | E24: МБОУ " СОШ №41" г. Чебоксары | F24: 10 А | G24: 10 | H24: Варламова Лилиана Валерьевна | I24: 35 | J24: 12 | K24: 47 | L24: 60 | M24: 78 | N24: участник
A25: 10 | B25: Л-10-10 | C25: Новицкая Дарья Михайловна | D25: г. Чебоксары | E25: МБОУ " СОШ №41" г. Чебоксары | F25: 10 А | G25: 10 | H25: Варламова Лилиана Валерьевна | I25: 0 | J25: 0 | K25: 0 | L25: 60 | M25: 0 | N25: участник
A26: 11 | B26: Л-10-11 | C26: Сорокин Сергей Евгеньевич | D26: г. Чебоксары | E26: МБОУ " СОШ №41" г. Чебоксары | F26: 10 А | G26: 10 | H26: Варламова Лилиана Валерьевна | I26: 40 | J26: 13 | K26: 53 | L26: 60 | M26: 88 | N26: победитель
B30: Председатель жюри: | H30: ____________________
B31: Члены жюри:
H32: ____________________
H33: ____________________
H34: ____________________
H35: ____________________
H36: ____________________
H37: ____________________
H38: ____________________
H39: ____________________
H40: ____________________

Sheet 11 КЛАСС
A3: Протокол школьного этапа этапа всероссийской олимпиады школьников по литературе в 2026-2027 уч.г., 11 класс
A5: Количество участников: 16
A6: Дата проведения: 29.09.2026
A7: Место проведения: МБОУ "СОШ №41" г. Чебоксары
A8: Председатель жюри: Шишкина Т.Г., учитель русского языка и литературы
A9: Члены жюри: Пастухова И.Н., учитель русского языка и литературы
A10: Варламова Л.В., учитель русского языка и литературы
A11: Иванова Н.Ф., учитель русского языка и литературы
A12: Черепанова С.Ш., учитель русского языка и литературы
A13: Порфирьева Д.М., учитель русского языка и литературы
A15: № | B15: Шифр | C15: Ф.И.О. участника (полностью) | D15: Город | E15: Наименование ОО (сокращенное наименование по Уставу) | F15: Класс, в котором обучается | G15: Класс, за который выступает | H15: Ф.И.О. наставника (полностью) | I15: Задание 1 | J15: Задание2 | K15: ИТОГО БАЛЛОВ | L15: МАКСИМАЛЬНЫЙ БАЛЛ | M15: Эффективность участия (%) | N15: Результат (победитель/призер/ участник)
A16: 1 | B16: Л-11-1 | C16: Паркаева Екатерина Алексеевна | D16: г. Чебоксары | E16: МБОУ "СОШ №41" г. Чебоксары | F16: 11 | G16: 11 | H16: Варламова Лилиана Валерьевна | I16: 20 | J16: 7 | K16: 27 | L16: 60 | M16: 45 | N16: участник
A17: 2 | B17: Л-11-2 | C17: Кудряшова Елизавета Дмитриевна | D17: г. Чебоксары | E17: МБОУ "СОШ №41" г. Чебоксары | F17: 11 | G17: 11 | H17: Варламова Лилиана Валерьевна | I17: 35 | J17: 15 | K17: 50 | L17: 60 | M17: 83 | N17: призер
A18: 3 | B18: Л-11-3 | C18: Аркадьева Валерия Алексеевна | D18: г. Чебоксары | E18: МБОУ " СОШ №41" г. Чебоксары | F18: 11 | G18: 11 | H18: Варламова Лилиана Валерьевна | I18: 27 | J18: 0 | K18: 27 | L18: 60 | M18: 45 | N18: участник
A19: 4 | B19: Л-11-4 | C19: Васильева Виктория Алексеевна | D19: г. Чебоксары | E19: МБОУ "СОШ №41" г. Чебоксары | F19: 11 | G19: 11 | H19: Варламова Лилиана Валерьевна | I19: 20 | J19: 9 | K19: 29 | L19: 60 | M19: 48 | N19: участник
A20: 5 | B20: Л-11-5 | C20: Егоров Артем Сергеевич | D20: г. Чебоксары | E20: МБОУ "СОШ №41" г. Чебоксары | F20: 11 | G20: 11 | H20: Варламова Лилиана Валерьевна | I20: 18 | J20: 10 | K20: 28 | L20: 60 | M20: 47 | N20: участник
A21: 6 | B21: Л-11-6 | C21: Кроткоа Вким Дмитриевич | D21: г. Чебоксары | E21: МБОУ "СОШ №41" г. Чебоксары | F21: 11 | G21: 11 | H21: Варламова Лилиана Валерьевна | I21: 20 | J21: 8 | K21: 28 | L21: 60 | M21: 47 | N21: участник
A22: 7 | B22: Л-11-7 | C22: Рахимов Назар Керемович | D22: г. Чебоксары | E22: МБОУ "СОШ №41" г. Чебоксары | F22: 11 | G22: 11 | H22: Варламова Лилиана Валерьевна | I22: 36 | J22: 13 | K22: 49 | L22: 60 | M22: 82 | N22: призер
A23: 8 | B23: Л-11-8 | C23: Финогенова Анастасия Дмитриевна | D23: г. Чебоксары | E23: МБОУ "СОШ №41" г. Чебоксары | F23: 11 | G23: 11 | H23: Варламова Лилиана Валерьевна | I23: 19 | J23: 10 | K23: 29 | L23: 60 | M23: 48 | N23: участник
A24: 9 | B24: Л-11-9 | C24: Михайлова Виктория Андреевна | D24: г. Чебоксары | E24: МБОУ "СОШ №41" г. Чебоксары | F24: 11 | G24: 11 | H24: Варламова Лилиана Валерьевна | I24: 19 | J24: 10 | K24: 29 | L24: 60 | M24: 48 | N24: участник
A25: 10 | B25: Л-11-10 | C25: Зайцев Константин Александрович | D25: г. Чебоксары | E25: МБОУ "СОШ №41" г. Чебоксары | F25: 11 | G25: 11 | H25: Варламова Лилиана Валерьевна | I25: 15 | J25: 10 | K25: 25 | L25: 60 | M25: 42 | N25: участник
A26: 11 | B26: Л-11-11 | C26: Андреева Яна Алексеевна | D26: г. Чебоксары | E26: МБОУ "СОШ №41" г. Чебоксары | F26: 11 | G26: 11 | H26: Варламова Лилиана Валерьевна | I26: 34 | J26: 14 | K26: 48 | L26: 60 | M26: 80 | N26: призер
A27: 12 | B27: Л-11-12 | C27: Степанов Илья Алексеевич | D27: г. Чебоксары | E27: МБОУ "СОШ №41" г. Чебоксары | F27: 11 | G27: 11 | H27: Варламова Лилиана Валерьевна | I27: 25 | J27: 3 | K27: 28 | L27: 60 | M27: 47 | N27: участник
... A31: 16 | B31: Л-11-16 | C31: Судукова Анастасия Дмитриевна | D31: г. Чебоксары | E31: МБОУ "СОШ №41" г. Чебоксары | F31: 11 | G31: 11 | H31: Варламова Лилиана Валерьевна | I31: 18 | J31: 8 | K31: 26 | L31: 60 | M31: 43 | N31: участник
B35: Председатель жюри: | H35: ____________________
B36: Члены жюри:
H37: ____________________
H38: ____________________
H39: ____________________
H40: ____________________
H41: ____________________
H42: ____________________
H43: ____________________
H44: ____________________
H45: ____________________
